BEGIN:VCALENDAR
METHOD:PUBLISH
VERSION:2.0
CALSCALE:GREGORIAN
PRODID:-//NONSGML Sandhills Development\, LLC//NONSGML Sugar Calendar Fe
 eds v3.4.0//EN
X-WR-CALNAME:April 4\, 2019 Special Meeting Notice
X-WR-CALDESC:Minnehaha Creek Watershed District (MCWD)
X-WR-TIMEZONE:America/Chicago
BEGIN:VTIMEZONE
TZID:America/Chicago
BEGIN:STANDARD
TZOFFSETFROM:-0500
TZOFFSETTO:-0600
DTSTART:20181104T070000
TZNAME:CST
END:STANDARD
BEGIN:DAYLIGHT
TZOFFSETFROM:-0600
TZOFFSETTO:-0500
DTSTART:20190310T080000
TZNAME:CDT
END:DAYLIGHT
END:VTIMEZONE
BEGIN:VTIMEZONE
TZID:America/Chicago
BEGIN:STANDARD
TZOFFSETFROM:-0500
TZOFFSETTO:-0600
DTSTART:20181104T070000
TZNAME:CST
END:STANDARD
BEGIN:DAYLIGHT
TZOFFSETFROM:-0600
TZOFFSETTO:-0500
DTSTART:20190310T080000
TZNAME:CDT
END:DAYLIGHT
END:VTIMEZONE
BEGIN:VEVENT
SUMMARY:April 4\, 2019 Special Meeting Notice
DESCRIPTION:Date:&nbsp\;\n\nThursday\, April 4\, 2019\n\n\n\nAttachments
 :&nbsp\;\n\n Special meeting - R. Clark.pdf\n\n\n\n\n\nNotice of Open Me
 eting Law\nMinnehaha Creek Watershed District\nBoard of Managers\, Emplo
 yees and MCWD Vendors\n&nbsp\;\nTo Whom It May Concern:\nBE IT KNOWN THA
 T\, Minnehaha Creek Watershed District Board of Managers\, its Employees
  and Vendors will hold a farewell event on Thursday\, April 4\, 2019 fro
 m 4:30 p.m. to 7:30 p.m. The purpose of this event is to say farewell\, 
 thank you and good luck in your new endeavors to MCWD’s long-term empl
 oyee Renae Clark. This event will be held at Champps\, 1641 Plymouth Roa
 d\, Minnetonka\, MN and is open to the public.\n\nDated this 1st day of 
 April 2019\n\n&nbsp\;
URL;VALUE=URI:https://minnehahacreek.org/events/april-4-2019-special-mee
 ting-notice/
UID:urn:uuid:115c0608-909d-499c-911d-f655254a794c
STATUS:CONFIRMED
ORGANIZER:
DTSTAMP:20260421T081636Z
DTSTART;VALUE=DATE:20190404
END:VEVENT
END:VCALENDAR