BEGIN:VCALENDAR
METHOD:PUBLISH
VERSION:2.0
CALSCALE:GREGORIAN
PRODID:-//NONSGML Sandhills Development\, LLC//NONSGML Sugar Calendar Fe
 eds v3.4.0//EN
X-WR-CALNAME:April 5
X-WR-CALDESC:Minnehaha Creek Watershed District (MCWD)
X-WR-TIMEZONE:America/Chicago
BEGIN:VTIMEZONE
TZID:America/Chicago
BEGIN:STANDARD
TZOFFSETFROM:-0500
TZOFFSETTO:-0600
DTSTART:20111106T070000
TZNAME:CST
END:STANDARD
BEGIN:DAYLIGHT
TZOFFSETFROM:-0600
TZOFFSETTO:-0500
DTSTART:20120311T080000
TZNAME:CDT
END:DAYLIGHT
END:VTIMEZONE
BEGIN:VTIMEZONE
TZID:America/Chicago
BEGIN:STANDARD
TZOFFSETFROM:-0500
TZOFFSETTO:-0600
DTSTART:20111106T070000
TZNAME:CST
END:STANDARD
BEGIN:DAYLIGHT
TZOFFSETFROM:-0600
TZOFFSETTO:-0500
DTSTART:20120311T080000
TZNAME:CDT
END:DAYLIGHT
END:VTIMEZONE
BEGIN:VEVENT
SUMMARY:April 5
DESCRIPTION:Date:&nbsp\;Thursday\, April 5\, 2012Attachments:&nbsp\; Age
 nda 4-5-2012.pdf6:45 PMThursday\, April 5\, 2012Planning\, Projects\, an
 d Land Conservation MeetingMinnehaha Creek Watershed District OfficeLowe
 r Level Meeting Room18202 Minnetonka BoulevardDeephaven\, MN 55391www.mi
 nnehahacreek.org&nbsp\;Board of Managers:Jim Calkins\, President\; Brian
  Shekleton\, Vice President\; Richard Miller\, Treasurer\;Pam Blixt\, Ma
 nager\; Jeff Casale\, Manager\; William Olson\, Manager\; Sherry Davis W
 hite\, Manager&nbsp\;Note:&nbsp\; Individuals with items on the agenda o
 r who wish to speak to the Board are encouraged to be in attendance when
  the meeting is called to order.5:30 pm&nbsp\;&nbsp\;&nbsp\;&nbsp\;&nbsp
 \; 1. &nbsp\;Budget &amp\; Finance Committee Meeting6:45 pm&nbsp\;&nbsp\
 ;&nbsp\;&nbsp\;&nbsp\; 2. &nbsp\;Board Meeting Call to Order and Roll Ca
 ll2.1 &nbsp\;Swearing in of Sherry Davis White as Member of Board of Man
 agers - Smith2.2 &nbsp\;Election of Secretary – Calkins3. &nbsp\;Matte
 rs from the FloorAnyone wishing to address the Board of Managers on an i
 tem not on the agenda or on the consent agenda may come forward at this 
 time.&nbsp\; Comments are limited to two minutes.4. &nbsp\;Approval of A
 genda (Additions/Corrections/Deletions)5. &nbsp\;Minutes5.1 &nbsp\;Appro
 val of 3/22/2012 Minutes6. &nbsp\;Board\, Committee and Task Force Repor
 ts6.1 &nbsp\;Board Updates:- &nbsp\;Personnel Committee- &nbsp\;IT Commi
 ttee- &nbsp\;Other6.2 &nbsp\;Upcoming Committee and Task Force Meeting S
 cheduleCurrently Scheduled:- &nbsp\;Hydrodata Committee – 4/9/12\, 3:0
 0 PM\, District Office6.3 &nbsp\;To Be Scheduled:- &nbsp\;2012 Board/CAC
  District Tour7. &nbsp\;Information Items/Correspondence (Items listed u
 nder the Information/Correspondence section of the agenda will be consid
 ered as one item of business. It consists of routine administrative item
 s or items not requiring discussion. Items can be removed and discussed 
 at the request of a Board member\, staff member\, or a member of the aud
 ience.)8. &nbsp\;Public Hearing8.1 &nbsp\;Public Hearing on Plan Amendme
 nt for Taft/Legion Improvement Project8.2 &nbsp\;Public Hearing for pote
 ntial land acquisition: 1312 Lake St. Hopkins9. &nbsp\;Board Action Item
 s9.1 &nbsp\;Res. 12-031: &nbsp\;AIS Inspection Services and Grant Agreem
 ents ? Dawson9.2 &nbsp\;Res. 12-026: Authorization to expend funds for m
 onitoring of DL-3 - Clark10. &nbsp\;Board Review Items10.1 &nbsp\;Review
  of designs\, cooperative/maintenance agreements and budget for&nbsp\;Sa
 unders-Langdon Raingarden project – Clark/Dahl&nbsp\; &nbsp\; &nbsp\;&
 nbsp\;10.2 &nbsp\;Authorization to execute contract to complete Stream A
 ssessment - Wisker10.3 &nbsp\;Feasibility Update on Lake Minnetonka Dire
 ct Volume Control – Dahl11. &nbsp\;AdjournmentUpcoming Board Meeting/E
 vent ScheduleMCWD Board of Managers Workshop\, Thursday\, April 12\, 201
 2\, 6:45 PM\, District Office ? MillerMCWD Board of Managers Meeting\, T
 hursday\, April 26\, 2012\, 6:45 PM\, District Office ? CalkinsMCWD Boar
 d of Managers Workshop\, Thursday\, May 3\, 2012\, 6:45 PM – District 
 Office ? CasaleMCWD Board of Managers Workshop\, Thursday\, May 10\, 201
 2\, 6:45 PM – District Office ? ShekletonMCWD Board of Managers Meetin
 g\, Thursday\, May 24\, 2012\, 6:45 PM – District Office - CalkinsJoin
 t MCWD/MPRB Meeting\, Thursday\, May 31\, 2012\, Minnehaha Glen
URL;VALUE=URI:https://minnehahacreek.org/events/april-5/
UID:urn:uuid:d304ec85-47f6-45c6-b864-9b50b0178164
STATUS:CONFIRMED
ORGANIZER:
DTSTAMP:20260422T211607Z
DTSTART;VALUE=DATE:20120405
END:VEVENT
END:VCALENDAR