BEGIN:VCALENDAR
METHOD:PUBLISH
VERSION:2.0
CALSCALE:GREGORIAN
PRODID:-//NONSGML Sandhills Development\, LLC//NONSGML Sugar Calendar Fe
 eds v3.4.0//EN
X-WR-CALNAME:August 10\, 2023 Board Meeting
X-WR-CALDESC:Minnehaha Creek Watershed District (MCWD)
X-WR-TIMEZONE:America/Chicago
BEGIN:VTIMEZONE
TZID:America/Chicago
BEGIN:DAYLIGHT
TZOFFSETFROM:-0600
TZOFFSETTO:-0500
DTSTART:20230312T080000
TZNAME:CDT
END:DAYLIGHT
END:VTIMEZONE
BEGIN:VTIMEZONE
TZID:America/Chicago
BEGIN:DAYLIGHT
TZOFFSETFROM:-0600
TZOFFSETTO:-0500
DTSTART:20230312T080000
TZNAME:CDT
END:DAYLIGHT
END:VTIMEZONE
BEGIN:VEVENT
SUMMARY:August 10\, 2023 Board Meeting
DESCRIPTION:Attachments: \n\n\n\n0.0-08.10.23-Board-Meeting-Agenda\n\n\n
 \n4.1-2023-Q2-Financial-Report\n\n\n\n5.1-Approval-of-the-July-27-2023-B
 oard-Meeting-Minutes\n\n\n\n7.1-Authorization-to-Renew-ElementsXS-Annual
 -License\n\n\n\n7.2-Accept-2023-Compensation-Study\n\n\n\n10.1-Permit-23
 -071-Mediacom-1948-Wayzata-Boulevard-West\n\n\n\n11.1-Authorization-to-C
 ontract-for-Engineering-and-Design-Services-for-2023-2024-Stormwater-Pon
 d-Survey-and-Maintenance
URL;VALUE=URI:https://minnehahacreek.org/events/august-10-2023-board-mee
 ting/
UID:urn:uuid:9b3115ca-6ef9-4e23-b02f-779b31bd7b08
STATUS:CONFIRMED
ORGANIZER:
DTSTAMP:20260419T163049Z
DTSTART;TZID=America/Chicago:20230810T190000
DTEND;TZID=America/Chicago:20230810T210000
LOCATION:MCWD Board Room
END:VEVENT
END:VCALENDAR