BEGIN:VCALENDAR
METHOD:PUBLISH
VERSION:2.0
CALSCALE:GREGORIAN
PRODID:-//NONSGML Sandhills Development\, LLC//NONSGML Sugar Calendar Fe
 eds v3.4.0//EN
X-WR-CALNAME:August 5\, 2020 CAC Meeting
X-WR-CALDESC:Minnehaha Creek Watershed District (MCWD)
X-WR-TIMEZONE:America/Chicago
BEGIN:VTIMEZONE
TZID:America/Chicago
BEGIN:DAYLIGHT
TZOFFSETFROM:-0600
TZOFFSETTO:-0500
DTSTART:20200308T080000
TZNAME:CDT
END:DAYLIGHT
END:VTIMEZONE
BEGIN:VTIMEZONE
TZID:America/Chicago
BEGIN:DAYLIGHT
TZOFFSETFROM:-0600
TZOFFSETTO:-0500
DTSTART:20200308T080000
TZNAME:CDT
END:DAYLIGHT
END:VTIMEZONE
BEGIN:VEVENT
SUMMARY:August 5\, 2020 CAC Meeting
DESCRIPTION:Attachments: \n\n\n\n2.1-Agenda-August-5\n\n\n\n3.1-July-07-
 Minutes-1\n\n\n\n4.1 - Covid Impacts and CAC-Mid-Year-Assessment\n\n\n\n
 4.2 -Long-Lake-Creek-Partnership-Update
URL;VALUE=URI:https://minnehahacreek.org/events/august-5-2020-cac-meetin
 g/
UID:urn:uuid:2459132e-2418-4ad9-acb3-2a2e411df1ee
STATUS:CONFIRMED
ORGANIZER:
DTSTAMP:20260420T070906Z
DTSTART;TZID=America/Chicago:20200805T183000
DTEND;TZID=America/Chicago:20200805T203000
END:VEVENT
END:VCALENDAR