BEGIN:VCALENDAR
METHOD:PUBLISH
VERSION:2.0
CALSCALE:GREGORIAN
PRODID:-//NONSGML Sandhills Development\, LLC//NONSGML Sugar Calendar Fe
 eds v3.4.0//EN
X-WR-CALNAME:Board Meeting
X-WR-CALDESC:Minnehaha Creek Watershed District (MCWD)
X-WR-TIMEZONE:America/Chicago
BEGIN:VTIMEZONE
TZID:America/Chicago
BEGIN:DAYLIGHT
TZOFFSETFROM:-0500
TZOFFSETTO:-0500
DTSTART:20240425T070000
TZNAME:CDT
END:DAYLIGHT
END:VTIMEZONE
BEGIN:VTIMEZONE
TZID:America/Chicago
BEGIN:DAYLIGHT
TZOFFSETFROM:-0500
TZOFFSETTO:-0500
DTSTART:20240425T070000
TZNAME:CDT
END:DAYLIGHT
END:VTIMEZONE
BEGIN:VEVENT
SUMMARY:Board Meeting
DESCRIPTION:Attachments\n\n\n\n0.0 10.24.24 Board Meeting Agenda\n\n\n\n
 5.1 Approval of the October 10\, 2024 Board Meeting Minutes\n\n\n\n6.1 G
 eneral Checking Register\n\n\n\n6.2 Surety Checking Register\n\n\n\n6.3 
 Wire Transfer(s) Register\n\n\n\n9.1 Permit 24-460 4685 West Branch Road
 \, Orono\n\n\n\n12.1 Planning Briefing-Continued Partnership with the Ci
 ty of Victoria
URL;VALUE=URI:https://minnehahacreek.org/events/board-meeting-26/
UID:urn:uuid:dd74fdb5-0966-4f17-b0d2-d585b76e2845
STATUS:CONFIRMED
ORGANIZER:
DTSTAMP:20260424T130752Z
DTSTART;TZID=America/Chicago:20241024T190000
DTEND;TZID=America/Chicago:20241024T190000
LOCATION:Boardroom
END:VEVENT
END:VCALENDAR