BEGIN:VCALENDAR
METHOD:PUBLISH
VERSION:2.0
CALSCALE:GREGORIAN
PRODID:-//NONSGML Sandhills Development\, LLC//NONSGML Sugar Calendar Fe
 eds v3.4.0//EN
X-WR-CALNAME:Board Meeting
X-WR-CALDESC:Minnehaha Creek Watershed District (MCWD)
X-WR-TIMEZONE:America/Chicago
BEGIN:VTIMEZONE
TZID:America/Chicago
BEGIN:DAYLIGHT
TZOFFSETFROM:-0600
TZOFFSETTO:-0500
DTSTART:20250309T080000
TZNAME:CDT
END:DAYLIGHT
END:VTIMEZONE
BEGIN:VTIMEZONE
TZID:America/Chicago
BEGIN:DAYLIGHT
TZOFFSETFROM:-0600
TZOFFSETTO:-0500
DTSTART:20250309T080000
TZNAME:CDT
END:DAYLIGHT
END:VTIMEZONE
BEGIN:VEVENT
SUMMARY:Board Meeting
DESCRIPTION:Attachments\n\n\n\n0.0 06.12.25 Board Meeting Agenda\n\n\n\n
 4.1 MN Watersheds Resolutions\n\n\n\n5.1 Approval of the May 22\, 2025 B
 oard Meeting Minutes\n\n\n\n11.1 Authorization to Release RFP for Downto
 wn Long Lake Feasibility Study\n\n\n\n11.2 Authorization to Amend the Ph
 ase II Design Contract with HDR for the 325 Blake Road
URL;VALUE=URI:https://minnehahacreek.org/events/board-meeting-40/
UID:urn:uuid:f736cd2a-b41d-45bc-9471-84db8959de53
STATUS:CONFIRMED
ORGANIZER:
DTSTAMP:20260420T153006Z
DTSTART;TZID=America/Chicago:20250612T190000
DTEND;TZID=America/Chicago:20250612T190000
LOCATION:Boardroom
END:VEVENT
END:VCALENDAR