BEGIN:VCALENDAR
METHOD:PUBLISH
VERSION:2.0
CALSCALE:GREGORIAN
PRODID:-//NONSGML Sandhills Development\, LLC//NONSGML Sugar Calendar Fe
 eds v3.4.0//EN
X-WR-CALNAME:Board Meeting
X-WR-CALDESC:Minnehaha Creek Watershed District (MCWD)
X-WR-TIMEZONE:America/Chicago
BEGIN:VTIMEZONE
TZID:America/Chicago
BEGIN:DAYLIGHT
TZOFFSETFROM:-0500
TZOFFSETTO:-0500
DTSTART:20250424T070000
TZNAME:CDT
END:DAYLIGHT
END:VTIMEZONE
BEGIN:VTIMEZONE
TZID:America/Chicago
BEGIN:DAYLIGHT
TZOFFSETFROM:-0500
TZOFFSETTO:-0500
DTSTART:20250424T070000
TZNAME:CDT
END:DAYLIGHT
END:VTIMEZONE
BEGIN:VEVENT
SUMMARY:Board Meeting
DESCRIPTION:Attachments\n\n\n\n0.0 10.23.25 Board Meeting Agenda\n\n\n\n
 4.1 FEMA Repayment Summary\n\n\n\n5.1 Approval of the October 9\, 2025 B
 oard Meeting Minutes\n\n\n\n6.1 General Checking Register\n\n\n\n6.2 Sur
 ety Checking Register\n\n\n\n6.3 Wire Transfer(s)\n\n\n\n10.1 7380 Minne
 washta Parkway Exception Request\n\n\n\n11.1 Award Contract for Twin Lak
 es Pond Maintenance\n\n\n\n11.2 Authorization to release RFP for Enginee
 ring Services
URL;VALUE=URI:https://minnehahacreek.org/events/board-meeting-49/
UID:urn:uuid:beabddc4-14ce-4841-b930-8605deaf137c
STATUS:CONFIRMED
ORGANIZER:
DTSTAMP:20260422T193701Z
DTSTART;TZID=America/Chicago:20251023T190000
DTEND;TZID=America/Chicago:20251023T190000
LOCATION:Boardroom
END:VEVENT
END:VCALENDAR