BEGIN:VCALENDAR
METHOD:PUBLISH
VERSION:2.0
CALSCALE:GREGORIAN
PRODID:-//NONSGML Sandhills Development\, LLC//NONSGML Sugar Calendar Fe
 eds v3.4.0//EN
X-WR-CALNAME:December 3\, 2019 Board Meeting
X-WR-CALDESC:Minnehaha Creek Watershed District (MCWD)
X-WR-TIMEZONE:America/Chicago
BEGIN:VTIMEZONE
TZID:America/Chicago
BEGIN:STANDARD
TZOFFSETFROM:-0500
TZOFFSETTO:-0600
DTSTART:20191103T070000
TZNAME:CST
END:STANDARD
END:VTIMEZONE
BEGIN:VTIMEZONE
TZID:America/Chicago
BEGIN:STANDARD
TZOFFSETFROM:-0500
TZOFFSETTO:-0600
DTSTART:20191103T070000
TZNAME:CST
END:STANDARD
END:VTIMEZONE
BEGIN:VEVENT
SUMMARY:December 3\, 2019 Board Meeting
DESCRIPTION:Attachments:\n\n 0.0 12.03.2019 Board Meeting Agenda.pdf\n 4
 .1 Stormwater Pond Project Updates.pdf\n 4.2_2019 MAWD Annual Meeting Ma
 terials.pdf\n 5.1 Approval of the November 21\, 2019 Board Minutes.pdf\n
  7.1 Approval of Banking Structure.pdf\n 9.1 Public Comment Opportunity 
 on Budget and Levy.pdf\n 11.1 CAC Recognition.pdf\n 11.2 Approval of Pla
 ns and Specfications and Authorization to Solicit Quotes for SMCHB Carp 
 Barriers.pdf\n 12.1 Board RBA and Memo Format.pdf\n 12.2 Potential prope
 rty donation 2301 Brunswick Avenue.pdf\n\n\n\n\n\nBOARD MEETING\nBoard R
 oom\nMinnehaha Creek Watershed District Offices\n15320 Minnetonka Boulev
 ard\nMinnetonka\, MN 55345\nwww.minnehahacreek.org\nÂ \nBoard of Manager
 s:\nSherry White\, President\; William Olson\, Vice President\; Richard 
 Miller\, Treasurer\;\nKurt Rogness\, Secretary\; Jessica Loftus\, Manage
 r\; Arun Hejmadi\, Manager\; Eugene Maxwell\, Manager\nÂ \n\nNote: Indiv
 iduals with items on the agenda or who wish to speak to the Board are en
 couraged to be in attendance when the meeting is called to order.\n\n7:0
 0 pmÂ Â Â Â Â Â Â Â Â Â Â Â Â Â Â Â Â Â Â Â Â  1.Â Â Â Â Â Â Â Â  Board 
 Meeting Call to Order and Roll Call\n\nÂ 7:05 pmÂ Â Â Â Â Â Â Â Â Â Â Â 
 Â Â Â Â Â Â Â Â Â  2.Â Â Â Â Â Â Â Â  Matters from the Floor\n\nAnyone w
 ishing to address the Board of Managers on an item not on the agenda or 
 on the consent agenda may come forward at this time. Comments are limite
 d to two minutes.\n\nÂ Â Â Â Â Â Â Â Â Â Â Â Â Â Â Â Â Â Â Â Â Â Â Â Â Â
  Â Â Â Â Â Â Â Â Â  3. Â Â Â Â Â Â Â  Approval of Agenda (Additions/Corr
 ections/Deletions)\n\nÂ  Â  4.Â Â Â Â Â Â Â Â  Information Items/Corresp
 ondence (Items listed under the Information/Correspondence section of th
 e agenda will be considered as one item of business. It consists of rout
 ine administrative items or items not requiring discussion. Items can be
  removed and discussed at the request of a Board member\, staff member o
 r a member of the audience.)Â \n\n4.1Â Â Â Â Â Â  Stormwater Pond Annual
  Survey and Maintenance Update â€“ Jonely\n\n4.2Â Â Â Â Â Â  2019 MAWD A
 nnual Meeting Materials â€“ Wisker\n\n7:05 â€“ 7:10 pmÂ Â Â Â Â Â Â Â Â 
 Â Â Â Â Â Â Â Â Â Â Â Â Â  CONSENT AGENDA\n\n(The consent agenda is cons
 idered as one item of business. It consists of routine administrative it
 ems or items not requiring discussion. Items can be removed from the con
 sent agenda at the request of a Board member\, staff member or a member 
 of the audience.)\n\nÂ Â Â Â Â Â Â Â Â Â Â Â Â Â Â Â Â Â Â Â Â Â Â Â Â Â
  Â Â Â Â Â Â Â Â Â  5.Â Â Â Â Â Â Â Â  Approval of Minutes\n\n5.1Â Â Â Â
  Â Â  Approval of the November 21\, 2019 Board Minutes\n\n6.Â Â Â Â Â Â 
 Â Â  Approval of Check Register\n\n6.1Â Â Â Â Â Â  None\n\n7.Â Â Â Â Â Â
  Â Â  Consent Items\n\n7.1Â Â Â Â Â Â  Resolution 19-100: Approval of Ba
 nking Structure â€“ Reynolds\n\n7:10 â€“ 10:00 pmÂ Â Â Â Â Â Â Â  REGULA
 R AGENDA\n\nÂ Â Â Â Â Â Â Â Â Â Â Â Â Â Â Â Â Â Â Â Â Â Â Â Â Â Â Â Â Â 
 Â Â Â Â Â  8.Â Â Â Â Â Â Â Â  Board\, Committee and Task Force Reports\n
 \n8.1 Â Â Â Â Â  Board Updates:\n\n-Â Â Â Â  Presidentâ€™s Report â€“ Wh
 ite\n\n-Â Â Â Â  Operations and Programs Committee Meeting Report â€“ Lo
 ftus\n\n8.2Â Â Â Â Â Â  Upcoming Meeting and Event Schedule:\n\n-Â Â Â Â
   6:30 pm\, December 11\, 2019 Citizens Advisory Committee Meeting\, Boa
 rd Room\, MCWD Office â€“ Rogness\n\n-Â Â Â Â  5:15 pm\, December 19\, 2
 019 Policy and Planning Committee Meeting\, Board Room\, MCWD Office\n\n
 -Â Â Â Â  7:00 pm\, December 19\, 2019 MCWD Board Meeting\, Board Room\,
  MCWD Office\n\n-Â Â Â Â  7:00 pm\, January 21\, 2020 Metro MAWD Meeting
 \, CRWD Office\, St Paul â€“ Hejmadi\n\n9.Â Â Â Â Â Â Â Â  Public Hearin
 gs &amp\; Presentations\n\n9.1Â Â Â Â Â Â  Public Comment on 2020 Budget
  â€“ Wisker\n\n10.Â Â Â Â Â Â  Permits Requiring a Variance or Discussio
 n\n\n10.1Â Â Â Â  None Â \n\nÂ Â  Â 11.Â Â Â Â Â Â  Action Items\n\n11.1
  Â Â Â  Resolution 19-101: Recognition of Service of Outgoing Citizen Ad
 visory Committee Members â€“ Wisker\n\n11.2Â Â Â Â  Resolution 19-102: A
 pproval of Plans and Specifications and Authorization to Solicit Quotes 
 for SMCHB Carp Barrier â€“ Brown\n\n12.Â Â Â Â Â Â  Board Discussion Ite
 ms\n\n12.1Â Â Â Â  Board RBA and Memo Format â€“ Hayman\n\n12.2Â Â Â Â  
 Potential Property Donation: 2301 Brunswick Avenue South\, St. Louis Par
 k* â€“ Hayman\n\n*(The Board may convene in closed session to discuss)\n
 \nÂ Â  Â 13.Â Â Â Â Â Â  Staff Updates\n\n13.1Â Â Â Â  Administratorâ€™s
  Report â€“ Wisker\n\n14.Â Â Â Â Â Â  Adjournment\n\nÂ \n\nOTHER MEETING
 S AND EVENTS\n\nDecember 5-7 â€“ MAWD Annual Conference &amp\; Trade Sho
 w\, Alexandria\n\nJanuary 21 â€“ Metro MAWD Meeting â€“ St. Paul\n\n*MCW
 D Sponsored Event
URL;VALUE=URI:https://minnehahacreek.org/events/december-3-2019-board-me
 eting/
UID:urn:uuid:9720f8e7-71c1-4351-8529-3baf32d409aa
STATUS:CONFIRMED
ORGANIZER:
DTSTAMP:20260422T063343Z
DTSTART;VALUE=DATE:20191203
END:VEVENT
END:VCALENDAR