BEGIN:VCALENDAR
METHOD:PUBLISH
VERSION:2.0
CALSCALE:GREGORIAN
PRODID:-//NONSGML Sandhills Development\, LLC//NONSGML Sugar Calendar Fe
 eds v3.4.0//EN
X-WR-CALNAME:February 23\, 2017 Board Meeting
X-WR-CALDESC:Minnehaha Creek Watershed District (MCWD)
X-WR-TIMEZONE:America/Chicago
BEGIN:VTIMEZONE
TZID:America/Chicago
BEGIN:STANDARD
TZOFFSETFROM:-0500
TZOFFSETTO:-0600
DTSTART:20161106T070000
TZNAME:CST
END:STANDARD
END:VTIMEZONE
BEGIN:VTIMEZONE
TZID:America/Chicago
BEGIN:STANDARD
TZOFFSETFROM:-0500
TZOFFSETTO:-0600
DTSTART:20161106T070000
TZNAME:CST
END:STANDARD
END:VTIMEZONE
BEGIN:VEVENT
SUMMARY:February 23\, 2017 Board Meeting
DESCRIPTION:Attachments: \n\n\n\n0.0-February-23-2017-Board-Meeting-Agen
 da\n\n\n\n4.1-Methodist-Hospital-Construction-Update-and-Att-1-Domyancic
 h\n\n\n\n5.1-February-2-2017-Board-Workshop-Minutes-Special-Mtg\n\n\n\n5
 .2-February-9-2017-Board-Meeting-Minutes\n\n\n\n6.1-General-Checking-Acc
 ount\n\n\n\n6.2-Surety-Account\n\n\n\n6.3-325-Blake-Road-Checking-Accoun
 t\n\n\n\n7.1-Cottageville-Park-Stormwater-Plan-and-City-Easement\n\n\n\n
 10.1-Permit-16-221-Metropolitan-Council-METRO-Green-Line-LRT-resized\n\n
 \n\n11.1-Authorization-to-enter-into-a-contract-with-Corporate-Technolog
 ies-for-Managed-Service-Provider-Services\n\n\n\n11.2-Auth-to-Execute-Ag
 reement-with-Great-River-Greening\n\n\n\n11.3-Auth-to-Enter-Contract-for
 -Vegetation-Maintenance\n\n\n\n11.4-Authorization-to-Contract-with-Wenck
 -Associates-and-LHB-for-Final-Plan-Drafting-and-Graphic-Services-for-the
 -2017-Water-Resource-Mngt-Plan\n\n\n\n11.5-Authorization-to-Execute-Gran
 t-Agreements-for-Minnehaha-Creek-Stormwater-Management-and-Six-Mile-Cree
 k-East-Auburn-Stormwater-Enhancement-Project\n\n\n\n11.6-RBA-17-017-MPLS
 -MPRB-MOU-Schaufler-Wisker\n\n\n\n11.7-Authorization-to-Execute-a-Purcha
 se-Agreement-for-Properties-in-Victoria
URL;VALUE=URI:https://minnehahacreek.org/events/february-23-2017-board-m
 eeting/
UID:urn:uuid:ce2c0df1-cb36-45e8-bbb4-be2870b4393d
STATUS:CONFIRMED
ORGANIZER:
DTSTAMP:20260423T212156Z
DTSTART;TZID=America/Chicago:20170223T183000
DTEND;TZID=America/Chicago:20170223T183000
END:VEVENT
END:VCALENDAR