BEGIN:VCALENDAR
METHOD:PUBLISH
VERSION:2.0
CALSCALE:GREGORIAN
PRODID:-//NONSGML Sandhills Development\, LLC//NONSGML Sugar Calendar Fe
 eds v3.4.0//EN
X-WR-CALNAME:January 7\, 2015 Special Board Meeting
X-WR-CALDESC:Minnehaha Creek Watershed District (MCWD)
X-WR-TIMEZONE:America/Chicago
BEGIN:VTIMEZONE
TZID:America/Chicago
BEGIN:STANDARD
TZOFFSETFROM:-0500
TZOFFSETTO:-0600
DTSTART:20141102T070000
TZNAME:CST
END:STANDARD
END:VTIMEZONE
BEGIN:VTIMEZONE
TZID:America/Chicago
BEGIN:STANDARD
TZOFFSETFROM:-0500
TZOFFSETTO:-0600
DTSTART:20141102T070000
TZNAME:CST
END:STANDARD
END:VTIMEZONE
BEGIN:VEVENT
SUMMARY:January 7\, 2015 Special Board Meeting
DESCRIPTION:Attachments:\n\n 0.0 - Agenda.pdf\n\n\n\n\n\nWednesday Janua
 ry 7\, 2015\nMinnehaha Creek Watershed District Offices\nBoard Room\n153
 20 Minnetonka Boulevard\nMinnetonka\, MN 55345\nwww.minnehahacreek.org\n
 Board of Managers:Sherry White\, President\; Brian Shekleton\, Vice Pres
 ident\; Richard Miller\, Treasurer\;Â Jeff Casale\, Secretary\; Pam Blix
 t\, Manager\; Jim Calkins\, Manager\; William Olson\, Manager\nMinnehaha
  Creek Watershed District Â Â District Administrator Interview ScheduleÂ
  Wednesday\, January 7\, 2015Â Agenda\n3:30 to 4:30 Â  Â  Â  Â  Â  Â  Â 
  Â  Â  Â  Â  Â  Â  Â  Â  Â  Â  Â  Â  Â  Â  Â  Â  Â  Â  Â  Â  Meet and Gr
 eet FinalistsÂ \n4:30 to 9:00 Â  Â  Â  Â  Â  Â  Â  Â  Â  Â  Â  Â  Â  Â  
 Â  Â  Â  Â  Â  Â  Â  Â  Â  Â  Â  Â  Â  District Administrator Interviews
 Â \n9:30 Â  Â  Â  Â  Â  Â  Â  Â  Â  Â  Â  Â  Â  Â  Â  Â  Â  Â  Â  Â  Â  
 Â  Â  Â  Â  Â  Â  Â  Â  Â  Â  Â  Â  DiscussionÂ \n\n**Candidate profiles
  will be provided by Springsted Incorparated at the meeting\, Wednesday 
 January 7\, 2015.
URL;VALUE=URI:https://minnehahacreek.org/events/january-7-2015-agenda/
UID:urn:uuid:e97b7403-3172-4a80-a2e9-b8330bf1f918
STATUS:CONFIRMED
ORGANIZER:
DTSTAMP:20260419T140740Z
DTSTART;VALUE=DATE:20150107
END:VEVENT
END:VCALENDAR