BEGIN:VCALENDAR
METHOD:PUBLISH
VERSION:2.0
CALSCALE:GREGORIAN
PRODID:-//NONSGML Sandhills Development\, LLC//NONSGML Sugar Calendar Fe
 eds v3.4.0//EN
X-WR-CALNAME:July 12\, 2018 Board Meeting
X-WR-CALDESC:Minnehaha Creek Watershed District (MCWD)
X-WR-TIMEZONE:America/Chicago
BEGIN:VTIMEZONE
TZID:America/Chicago
BEGIN:DAYLIGHT
TZOFFSETFROM:-0600
TZOFFSETTO:-0500
DTSTART:20180311T080000
TZNAME:CDT
END:DAYLIGHT
END:VTIMEZONE
BEGIN:VTIMEZONE
TZID:America/Chicago
BEGIN:DAYLIGHT
TZOFFSETFROM:-0600
TZOFFSETTO:-0500
DTSTART:20180311T080000
TZNAME:CDT
END:DAYLIGHT
END:VTIMEZONE
BEGIN:VEVENT
SUMMARY:July 12\, 2018 Board Meeting
DESCRIPTION:Attachments:\n\n 0.0 7.12.2018 Board Meeting Agenda.pdf\n 5.
 1 Approval of 6.28.18 Board Minutes.pdf\n 10.1 Permit 18-273-825 Old Cry
 stal Bay Road Orono.pdf\n 11.1 Authorization to Contract with Wenck for 
 2018-2019 Stormwater Pond Maintenance Engineering Services\; Authorizati
 on to Solicit Bids.pdf\n 11.2 Resolution of Support for Long Lake Creek 
 Partnership.pdf\n 11.3 Authorization to Execute Contract with St. Croix 
 Watershed Research Station for Wasserman lake Sediment Analysis.pdf\n\n\
 n\n\n\nThursday\, July 12\, 2018\nBOARD MEETING\nBoard Room\nMinnehaha C
 reek Watershed District Offices\n15320 Minnetonka Boulevard\nMinnetonka\
 , MN 55345\nwww.minnehahacreek.org\nÂ \nBoard of Managers:\nSherry White
 \, President\; Brian Shekleton\, Vice President\; Richard Miller\, Treas
 urer\;\nKurt Rogness\, Secretary\; Jessica Loftus\, Manager\; Bill Becke
 r\, Manager\; William Olson\, Manager\nÂ \nNote:Â  Individuals with item
 s on the agenda or who wish to speak to the Board\nare encouraged to be 
 in attendance when the meeting is called to order.\nÂ Â Â Â Â Â Â Â Â Â 
 Â Â Â Â Â Â Â Â Â Â Â Â Â Â Â Â Â Â Â Â Â Â Â Â Â Â Â Â Â Â Â Â Â Â Â Â 
 Â \n\n7:00 pmÂ Â Â Â Â Â Â Â Â Â Â Â Â Â Â Â Â Â Â Â Â  1.Â Â Â Â Â Â Â 
 Â  Board Meeting Call to Order and Roll Call\n\n7:05 pmÂ Â Â Â Â Â Â Â Â
  Â Â Â Â Â Â Â Â Â Â Â Â  2.Â Â Â Â Â Â Â Â  Matters from the Floor\n\nA
 nyone wishing to address the Board of Managers on an item not on the age
 ndaÂ or on the consent agenda may come forward at this time.Â  Comments 
 are limitedÂ to two minutes.\n\nÂ Â Â Â Â Â Â Â Â Â Â Â Â Â Â Â Â Â Â Â 
 Â Â Â Â Â Â Â Â Â Â Â Â Â Â Â  3. Â Â Â Â Â Â Â  Approval of Agenda (Add
 itions/Corrections/Deletions)\n\nÂ  Â  4.Â Â Â Â Â Â Â Â  Information It
 ems/Correspondence (Items listed under the Information/Correspondence se
 ction of the agenda will be considered as one item of business. It consi
 sts of routine administrative items or items not requiring discussion. I
 tems can be removed and discussed at the request of a Board member\, sta
 ff member\, or a member of the audience.)\n\n4.1Â Â Â Â Â Â  None\n\n7:0
 5-7:10pmÂ Â Â Â Â Â Â Â Â Â Â Â Â Â  CONSENT AGENDA\n\n(The consent agen
 da is considered as one item of business. It consists of routine adminis
 trative items or items not requiring discussion. Items can be removed fr
 om the consent agenda at the request of a Board member\, staff member\, 
 or a member of the audience.)Â  Â  Â Â \n\nÂ Â Â Â Â Â Â Â Â Â Â Â Â Â Â
  Â Â Â Â Â Â Â Â  Â Â Â Â Â Â Â Â Â Â Â  5.Â Â Â Â Â Â Â Â  Approval of 
 Minutes\n\n5.1Â Â Â Â Â Â  Approval of the June 28\, 2018 Board Minutes\
 n\n6.Â Â Â Â Â Â Â Â  Approval of Check Register Â Â Â Â Â Â Â Â Â Â \n\
 n6.1Â Â Â Â Â Â  None\n\nÂ  Â 7.Â Â Â Â Â Â Â Â  Consent Items\n\n7.1Â Â
  Â Â Â Â  None\n\n7:10-10:00pm Â Â Â Â Â Â Â Â Â Â Â  REGULAR AGENDAÂ Â 
 Â Â Â Â Â Â Â Â Â Â Â Â Â Â Â Â Â Â Â Â Â Â Â Â Â Â Â Â Â Â Â Â Â Â Â Â 
 Â Â Â Â Â Â Â Â Â Â Â Â Â Â Â Â Â Â Â Â Â Â Â Â Â Â Â Â Â Â Â Â Â Â Â Â 
 Â Â Â Â Â Â Â Â Â Â Â Â \n\nÂ Â Â Â Â Â Â Â Â Â Â Â Â Â Â Â Â Â Â Â Â Â 
 Â  Â Â Â Â Â Â Â Â Â Â Â  8.Â Â Â Â Â Â Â Â  Board\, Committee and Task 
 Force Reports\n\nÂ Â Â Â Â Â Â Â Â Â Â Â Â Â Â Â Â Â Â Â Â Â Â Â Â Â Â Â
  Â Â Â Â Â Â Â Â Â Â Â Â Â Â Â Â Â Â Â  8.1 Â Â Â Â Â  Board Updates:\n\
 n-Â Â Â Â  Presidentâ€™s Report â€“ White\n\n-Â Â Â Â  Operations and Pr
 ograms Committee Meeting Report â€“ Loftus\n\n-Â Â Â Â  Citizen Advisory
  Committee Meeting Report â€“ Becker\n\n8.2Â Â Â Â Â Â  Upcoming Meeting
  and Event Schedule:\n\n-Â Â Â Â  5:15 pm\, July 26\, 2018 Policy and Pl
 anning Committee Meeting\, Board Room\, MCWD Office\n\n-Â Â Â Â  7:00 pm
 \, July 26\, 2018 MCWD Board Meeting\, Board Room\, MCWD Office\n\n-Â Â 
 Â Â  6:30 pm\, August 8\, 2018 Citizen Advisory Committee Meeting\, Boar
 d Room\, MCWD Office â€“ Miller\n\n-Â Â Â Â  5:15 pm\, August 9\, 2018 O
 perations and Programs Committee Meeting\, Board Room\, MCWD Office\n\n-
 Â Â Â Â  7:00 pm\, August 9\, 2018 MCWD Board Meeting\, Board Room\, MCW
 D Office\n\nÂ  Â 9.Â Â Â Â Â Â Â Â  Public Hearings &amp\; Presentations
 \n\n9.1Â Â Â Â Â Â  None\n\nÂ  10.Â Â Â Â Â Â  Permits Requiring a Varia
 nce or Discussion\n\n10.1Â Â Â Â  Permit 18-273: 825 Old Crystal Bay Roa
 d\, Orono â€“ Showalter\n\n11.Â Â Â Â Â Â  Action Items\n\n11.1Â Â Â Â  
 Resolution 18-065: Authorization to Contract with Wenck for 2018/2019 St
 ormwater Pond Maintenance Engineering Services\; Authorization to Solici
 t Bidsâ€“ Jonely\n\n11.2Â Â Â Â  Resolution 18-066: Resolution of Suppor
 t for the Long Lake Creek Subwatershed Partnership â€“ Fieldseth\n\n11.3
 Â Â Â Â  Resolution 18-067: Authorization to Execute Contract with St. C
 roix Watershed Research Station for Wasserman Lake Sediment Analysis â€“
  Beck\n\nÂ  12.Â Â Â Â Â Â  Board Discussion Items:Â Â Â Â  \n\n12.1Â Â 
 Â Â  325 Blake Road â€“ Minnesota Ice Lease Claim â€“ Hayman/Holtman\n\n
  *Note: The Board may convene in closed session to discuss with counsel\
 n\n13.Â Â Â Â Â Â  Staff Updates\n\nÂ Â Â Â Â Â Â Â Â Â Â  13.1 Â Â Â  A
 dministratorâ€™s Report â€“ Wisker\n\nÂ  14.Â Â Â Â Â Â  Adjournment\n\n
 Â \n\nMCWD SPONSORED OR HOSTED EVENTS\n\nJuly 18 â€“ Creek Clean-up with
  Target Community Service\, St. Louis Park\n\nSeptember 8 â€“ Monarch Fe
 stival\, Lake Nokomis
URL;VALUE=URI:https://minnehahacreek.org/events/july-12-2018-board-meeti
 ng/
UID:urn:uuid:131e3cf5-dd4c-4a67-bd53-b21e9ff3dde2
STATUS:CONFIRMED
ORGANIZER:
DTSTAMP:20260420T194624Z
DTSTART;VALUE=DATE:20180712
END:VEVENT
END:VCALENDAR