BEGIN:VCALENDAR
METHOD:PUBLISH
VERSION:2.0
CALSCALE:GREGORIAN
PRODID:-//NONSGML Sandhills Development\, LLC//NONSGML Sugar Calendar Fe
 eds v3.4.0//EN
X-WR-CALNAME:June 20\, 2019 Board Retreat
X-WR-CALDESC:Minnehaha Creek Watershed District (MCWD)
X-WR-TIMEZONE:America/Chicago
BEGIN:VTIMEZONE
TZID:America/Chicago
BEGIN:DAYLIGHT
TZOFFSETFROM:-0600
TZOFFSETTO:-0500
DTSTART:20190310T080000
TZNAME:CDT
END:DAYLIGHT
END:VTIMEZONE
BEGIN:VTIMEZONE
TZID:America/Chicago
BEGIN:DAYLIGHT
TZOFFSETFROM:-0600
TZOFFSETTO:-0500
DTSTART:20190310T080000
TZNAME:CDT
END:DAYLIGHT
END:VTIMEZONE
BEGIN:VEVENT
SUMMARY:June 20\, 2019 Board Retreat
DESCRIPTION:Date:&nbsp\;Thursday\, June 20\, 2019Attachments:&nbsp\; 06.
 20.2019 Board Retreat Agenda.pdf MCWD Board Retreat Memo.pdf Attachment 
 1 - Strategic Initiatives.pdf Attachment 2 - Climate Adaptation.pdfThurs
 day\, June 20\, 2019&nbsp\;BOARD RETREATMinnehaha RoomLake Minnetonka Re
 gional Park4610 County Road 44Minnetrista\, MN 55364www.minnehahacreek.o
 rg&nbsp\;Board of Managers:Sherry White\, President\; William Olson\, Vi
 ce President\; Richard Miller\, Treasurer\;&nbsp\;Kurt Rogness\, Secreta
 ry\; Jessica Loftus\, Manager\; Arun Hejmadi\, Manager\; Eugene Maxwell\
 , Manager&nbsp\;5:00 pm&nbsp\;&nbsp\;&nbsp\;&nbsp\;&nbsp\;&nbsp\;&nbsp\;
 &nbsp\;&nbsp\;&nbsp\;&nbsp\;&nbsp\;&nbsp\;&nbsp\;&nbsp\;&nbsp\;&nbsp\;&n
 bsp\;&nbsp\;&nbsp\;&nbsp\; Board Meeting Call to Order and Roll Call5:00
  pm â€“ 5:30 pm&nbsp\;&nbsp\;&nbsp\;&nbsp\; Dinner5:30 pm â€“ 7:00 pm&nb
 sp\;&nbsp\;&nbsp\;&nbsp\; Discuss Strategic Action Plan&nbsp\;7:00 pm â€
 “ 9:00 pm&nbsp\;&nbsp\;&nbsp\;&nbsp\; Discuss Emerging Watershed Issues 
 and Opportunities
URL;VALUE=URI:https://minnehahacreek.org/events/june-20-2019-board-retre
 at/
UID:urn:uuid:93fec592-33c4-441e-8510-a22c216676bb
STATUS:CONFIRMED
ORGANIZER:
DTSTAMP:20260421T095828Z
DTSTART;VALUE=DATE:20190620
END:VEVENT
END:VCALENDAR