BEGIN:VCALENDAR
METHOD:PUBLISH
VERSION:2.0
CALSCALE:GREGORIAN
PRODID:-//NONSGML Sandhills Development\, LLC//NONSGML Sugar Calendar Fe
 eds v3.4.0//EN
X-WR-CALNAME:March 22\, 2018 Executive Committee
X-WR-CALDESC:Minnehaha Creek Watershed District (MCWD)
X-WR-TIMEZONE:America/Chicago
BEGIN:VTIMEZONE
TZID:America/Chicago
BEGIN:STANDARD
TZOFFSETFROM:-0500
TZOFFSETTO:-0600
DTSTART:20171105T070000
TZNAME:CST
END:STANDARD
BEGIN:DAYLIGHT
TZOFFSETFROM:-0600
TZOFFSETTO:-0500
DTSTART:20180311T080000
TZNAME:CDT
END:DAYLIGHT
END:VTIMEZONE
BEGIN:VTIMEZONE
TZID:America/Chicago
BEGIN:STANDARD
TZOFFSETFROM:-0500
TZOFFSETTO:-0600
DTSTART:20171105T070000
TZNAME:CST
END:STANDARD
BEGIN:DAYLIGHT
TZOFFSETFROM:-0600
TZOFFSETTO:-0500
DTSTART:20180311T080000
TZNAME:CDT
END:DAYLIGHT
END:VTIMEZONE
BEGIN:VEVENT
SUMMARY:March 22\, 2018 Executive Committee
DESCRIPTION:Date:&nbsp\;\n\nThursday\, March 22\, 2018\n\n\n\nAttachment
 s:&nbsp\;\n\n 0.0 03.22.3018 Executive Committee Agenda .pdf\n\n\n\n\n\n
 &nbsp\;\nThursday March 22\, 2018\n&nbsp\;\nEXECUTIVE COMMITTEE\nBoard R
 oom\nMinnehaha Creek Watershed District Office 15320 Minnetonka Boulevar
 d\nMinnetonka\, MN 55345\nwww.minnehahacreek.org&nbsp\;\n&nbsp\;\nExecut
 ive Committee Members:\nSherry White\; Kurt Rogness\; Brian Shekleton\n&
 nbsp\;\nNote: No official action will be taken during committee meetings
 . Items discussed in committee may be continued\, forwarded to another c
 ommittee\, or advanced to a Board workshop or meeting. Individuals who w
 ish to speak to the committee members are encouraged to be in attendance
  when the meeting is called to order.\n&nbsp\;\n\n6:30 – 7:00 pm&nbsp\
 ;&nbsp\;&nbsp\;&nbsp\;&nbsp\;&nbsp\;&nbsp\;&nbsp\; 1.&nbsp\;&nbsp\;&nbsp
 \;&nbsp\;&nbsp\;&nbsp\;&nbsp\;&nbsp\; Committee Meeting Call to Order an
 d Roll Call\n\n&nbsp\;\n2.&nbsp\;&nbsp\;&nbsp\;&nbsp\;&nbsp\;&nbsp\;&nbs
 p\;&nbsp\;&nbsp\;&nbsp\;&nbsp\;&nbsp\;&nbsp\;&nbsp\;&nbsp\;&nbsp\;&nbsp\
 ; Matters from the Floor\nAnyone wishing to address the Board of Manager
 s on an item not on the agenda or on the consent agenda may come forward
  at this time. Comments are limited to two minutes.\n&nbsp\;\n3.&nbsp\;&
 nbsp\;&nbsp\;&nbsp\;&nbsp\;&nbsp\;&nbsp\;&nbsp\;&nbsp\;&nbsp\;&nbsp\;&nb
 sp\;&nbsp\;&nbsp\;&nbsp\;&nbsp\;&nbsp\; Approval of Agenda (Additions/Co
 rrections/Deletions)\n4.&nbsp\;&nbsp\;&nbsp\;&nbsp\;&nbsp\;&nbsp\;&nbsp\
 ;&nbsp\;&nbsp\;&nbsp\;&nbsp\;&nbsp\;&nbsp\;&nbsp\;&nbsp\;&nbsp\;&nbsp\; 
 Information Items/Correspondence (Items listed under the Information/Cor
 respondence section of the agenda will be considered as one item of busi
 ness. It consists of routine administrative items or items not requiring
  discussion. Items can be removed and discussed at the request of a Boar
 d member\, staff member\, or a member of the audience.)\n&nbsp\;\n5.&nbs
 p\;&nbsp\;&nbsp\;&nbsp\;&nbsp\;&nbsp\;&nbsp\;&nbsp\;&nbsp\;&nbsp\;&nbsp\
 ;&nbsp\;&nbsp\;&nbsp\;&nbsp\;&nbsp\;&nbsp\; Discussion Items\n5.1 &nbsp\
 ;&nbsp\;&nbsp\; Review 2017 Audit Report* - Gibbs\n&nbsp\;\n6.&nbsp\;&nb
 sp\;&nbsp\;&nbsp\;&nbsp\;&nbsp\;&nbsp\;&nbsp\;&nbsp\;&nbsp\;&nbsp\;&nbsp
 \;&nbsp\;&nbsp\;&nbsp\;&nbsp\;&nbsp\;&nbsp\; Staff Updates\n6.1&nbsp\;&n
 bsp\;&nbsp\;&nbsp\;&nbsp\;&nbsp\;&nbsp\;&nbsp\;&nbsp\; None\n&nbsp\;\n7.
 &nbsp\;&nbsp\;&nbsp\;&nbsp\;&nbsp\;&nbsp\;&nbsp\;&nbsp\;&nbsp\;&nbsp\;&n
 bsp\;&nbsp\;&nbsp\;&nbsp\;&nbsp\;&nbsp\;&nbsp\; Adjournment\n&nbsp\;\nUp
 coming agenda items:\n&nbsp\;\n&nbsp\;\n*No materials are provided.
URL;VALUE=URI:https://minnehahacreek.org/events/march-22-2018-executive-
 committee/
UID:urn:uuid:2fcfda36-7310-4507-92b4-e4d08ff96b57
STATUS:CONFIRMED
ORGANIZER:
DTSTAMP:20260420T071613Z
DTSTART;VALUE=DATE:20180322
END:VEVENT
END:VCALENDAR