BEGIN:VCALENDAR
METHOD:PUBLISH
VERSION:2.0
CALSCALE:GREGORIAN
PRODID:-//NONSGML Sandhills Development\, LLC//NONSGML Sugar Calendar Fe
 eds v3.4.0//EN
X-WR-CALNAME:March 23\, 2023 Board Meeting
X-WR-CALDESC:Minnehaha Creek Watershed District (MCWD)
X-WR-TIMEZONE:America/Chicago
BEGIN:VTIMEZONE
TZID:America/Chicago
BEGIN:STANDARD
TZOFFSETFROM:-0500
TZOFFSETTO:-0600
DTSTART:20221106T070000
TZNAME:CST
END:STANDARD
BEGIN:DAYLIGHT
TZOFFSETFROM:-0600
TZOFFSETTO:-0500
DTSTART:20230312T080000
TZNAME:CDT
END:DAYLIGHT
END:VTIMEZONE
BEGIN:VTIMEZONE
TZID:America/Chicago
BEGIN:STANDARD
TZOFFSETFROM:-0500
TZOFFSETTO:-0600
DTSTART:20221106T070000
TZNAME:CST
END:STANDARD
BEGIN:DAYLIGHT
TZOFFSETFROM:-0600
TZOFFSETTO:-0500
DTSTART:20230312T080000
TZNAME:CDT
END:DAYLIGHT
END:VTIMEZONE
BEGIN:VEVENT
SUMMARY:March 23\, 2023 Board Meeting
DESCRIPTION:Attachments:&nbsp\;\n\n\n\n0.0_03.23.23_Board_Meeting_Agenda
 \n\n\n\n6.1 Approval of the February 23\, 2023 Board Meeting Minutes.pdf
 \n\n\n\n7.1 General Checking Register.pdf\n\n\n\n7.2 Surety Checking Reg
 ister.pdf\n\n\n\n7.3 Wire Transfer(s).pdf\n\n\n\n13.1 Permitting Alignme
 nt Update .pdf
URL;VALUE=URI:https://minnehahacreek.org/events/march-23-2023-board-meet
 ing/
UID:urn:uuid:8a31b263-4b6b-4f4d-b552-9aa100c70364
STATUS:CONFIRMED
ORGANIZER:
DTSTAMP:20260425T014301Z
DTSTART;TZID=America/Chicago:20230323T190000
DTEND;TZID=America/Chicago:20230323T190000
END:VEVENT
END:VCALENDAR