BEGIN:VCALENDAR
METHOD:PUBLISH
VERSION:2.0
CALSCALE:GREGORIAN
PRODID:-//NONSGML Sandhills Development\, LLC//NONSGML Sugar Calendar Fe
 eds v3.4.0//EN
X-WR-CALNAME:March 28\, 2019 Executive Committee Meeting
X-WR-CALDESC:Minnehaha Creek Watershed District (MCWD)
X-WR-TIMEZONE:America/Chicago
BEGIN:VTIMEZONE
TZID:America/Chicago
BEGIN:STANDARD
TZOFFSETFROM:-0500
TZOFFSETTO:-0600
DTSTART:20181104T070000
TZNAME:CST
END:STANDARD
BEGIN:DAYLIGHT
TZOFFSETFROM:-0600
TZOFFSETTO:-0500
DTSTART:20190310T080000
TZNAME:CDT
END:DAYLIGHT
END:VTIMEZONE
BEGIN:VTIMEZONE
TZID:America/Chicago
BEGIN:STANDARD
TZOFFSETFROM:-0500
TZOFFSETTO:-0600
DTSTART:20181104T070000
TZNAME:CST
END:STANDARD
BEGIN:DAYLIGHT
TZOFFSETFROM:-0600
TZOFFSETTO:-0500
DTSTART:20190310T080000
TZNAME:CDT
END:DAYLIGHT
END:VTIMEZONE
BEGIN:VEVENT
SUMMARY:March 28\, 2019 Executive Committee Meeting
DESCRIPTION:Date:&nbsp\;\n\nThursday\, March 28\, 2019\n\n\n\nAttachment
 s:&nbsp\;\n\n 0.0 03.28.19 Executive Committee Agenda.pdf\n\n\n\n\n\nThu
 rsday March 28\, 2019\nEXECUTIVE COMMITTEE\nBoard Room\nMinnehaha Creek 
 Watershed District Office 15320 Minnetonka Boulevard\nMinnetonka\, MN 55
 345\nwww.minnehahacreek.org\n&nbsp\;\nExecutive Committee Members:\nSher
 ry White\, Bill Olson\, Kurt Rogness\n&nbsp\;\nNote: No official action 
 will be taken during committee meetings. Items discussed in committee ma
 y be continued\, forwarded to another committee\, or advanced to a Board
  workshop or meeting. Individuals who wish to speak to the committee mem
 bers are encouraged to be in attendance when the meeting is called to or
 der.\n&nbsp\;\n\n6:00 – 6:30 pm&nbsp\;&nbsp\;&nbsp\;&nbsp\;&nbsp\;&nbs
 p\;&nbsp\;&nbsp\;&nbsp\;&nbsp\;&nbsp\;&nbsp\;\n&nbsp\;\n1.&nbsp\;&nbsp\;
 &nbsp\; Committee Meeting Call to Order and Roll Call\n&nbsp\;\n2.&nbsp\
 ;&nbsp\;&nbsp\; Matters from the Floor\nAnyone wishing to address the Bo
 ard of Managers on an item not on the agenda or on the consent agenda ma
 y come forward at this time. Comments are limited to two minutes.&nbsp\;
 \n3.&nbsp\;&nbsp\;&nbsp\; Approval of Agenda (Additions/Corrections/Dele
 tions)\n&nbsp\;\n4.&nbsp\;&nbsp\;&nbsp\; Information Items/Correspondenc
 e (Items listed under the Information/Correspondence section of the agen
 da will be considered as one item of business. It consists of routine ad
 ministrative items or items not requiring discussion. Items can be remov
 ed and discussed at the request of a Board member\, staff member\, or a 
 member of the audience.)\n5.&nbsp\;&nbsp\;&nbsp\; Discussion Items\n5.1&
 nbsp\; Review 2018 Audit Report* – Gibbs\n6.&nbsp\;&nbsp\;&nbsp\; Staf
 f Updates\n6.1&nbsp\; None\n7.&nbsp\;&nbsp\;&nbsp\; Adjournment\n&nbsp\;
 \n\n*Materials provided with Board packet item 11.1
URL;VALUE=URI:https://minnehahacreek.org/events/march-28-2019-executive-
 committee-meeting/
UID:urn:uuid:6ea4870f-63cc-4c26-ab95-45c5de85ed3a
STATUS:CONFIRMED
ORGANIZER:
DTSTAMP:20260420T224319Z
DTSTART;VALUE=DATE:20190328
END:VEVENT
END:VCALENDAR