BEGIN:VCALENDAR
METHOD:PUBLISH
VERSION:2.0
CALSCALE:GREGORIAN
PRODID:-//NONSGML Sandhills Development\, LLC//NONSGML Sugar Calendar Fe
 eds v3.4.0//EN
X-WR-CALNAME:March 5\, 2015 Agenda
X-WR-CALDESC:Minnehaha Creek Watershed District (MCWD)
X-WR-TIMEZONE:America/Chicago
BEGIN:VTIMEZONE
TZID:America/Chicago
BEGIN:STANDARD
TZOFFSETFROM:-0500
TZOFFSETTO:-0600
DTSTART:20141102T070000
TZNAME:CST
END:STANDARD
END:VTIMEZONE
BEGIN:VTIMEZONE
TZID:America/Chicago
BEGIN:STANDARD
TZOFFSETFROM:-0500
TZOFFSETTO:-0600
DTSTART:20141102T070000
TZNAME:CST
END:STANDARD
END:VTIMEZONE
BEGIN:VEVENT
SUMMARY:March 5\, 2015 Agenda
DESCRIPTION:Date:&nbsp\;\n\nThursday\, March 5\, 2015\n\n\n\nAttachments
 :&nbsp\;\n\n 0.0 - March 5\, 2015 Agenda.pdf\n 5.1 - Lake Nokomis for Cl
 ean Water Cost Share Project - Eidem.pdf\n 5.2 - MN DNR Watercraft Inspe
 ction Delegation Agreement - Fieldseth.pdf\n 5.3 - Memo - Watercraft Ins
 pection Cost-Share Grants - Fieldseth.pdf\n 5.4 - Authorization to Enter
  into Agreement - Freshwater Scientific - Complete Aquatic Plant Surveys
  - Fieldseth.pdf\n 5.5 - Authorizatio to Enter into Agreement with Blue 
 Water Science - Complete Aquatic Plant Surveys - Flowering Rush - Fields
 eth.pdf\n 5.6 - Discussion of AIS Grant Opportunities - Fieldseth.pdf\n\
 n\n\n\n\nThursday\, March 5\, 2015\nOPERATIONS AND PROGRAMS COMMITTEE\nB
 ig Island Room\nMinnehaha Creek Watershed District Office\n15320 Minneto
 nka Boulevard\nMinnetonka\, MN 55345\nwww.minnehahacreek.org\nOperations
  and Programs Committee Members:\nWilliam Olson\, Chair\; Jeff Casale\; 
 Pam Blixt\nNote: &nbsp\;No official action will be taken during committe
 e meetings. &nbsp\;Items discussed in committee may be continued\, forwa
 rded to another committee\, or advanced to a Board workshop or meeting. 
 &nbsp\;Individuals who wish to speak to the committee members are encour
 aged to be in attendance when the meeting is called to order.\n\n6:45-9:
 00 pm\n\n1.	Committee Meeting Call to Order and Roll Call\n\n\n2.	Matter
 s from the Floor&nbsp\;\nAnyone wishing to address the Board of Managers
  on an item not on the agenda&nbsp\;or on the consent agenda may come fo
 rward at this time. &nbsp\;Comments are limitedto two minutes.\n\n\n3. A
 pproval of Agenda (Additions/Corrections/Deletions)\n\n4.	Information It
 ems/Correspondence\n(Items listed under the Information/Correspondence s
 ection of the agenda will be considered as one item of business. It cons
 ists of routine administrative items or items not requiring discussion. 
 Items can be removed and discussed at the request of a Board member\, st
 aff member\, or a member of the audience.)\n\n5.	Discussion Items\n5.1	L
 ake Nokomis Neighbors for Clean Water Cost Share Project - Eidem\n5.2	MN
  DNR Watercraft Inspection Delegation Agreement - Fieldseth\n5.3	2015 Wa
 tercraft Inspection Cost-Share Grants ? Fieldseth\n5.4	Authorization to 
 Enter into an Agreement with Freshwater Scientific Services to Complete 
 Aquatic Plant Surveys on MCWD Waterbodies â€“ Fieldseth\n5.5	Authorizati
 on to Enter into an Agreement with Blue Water Science to Complete Aquati
 c Plant Surveys and Flowering Rush Assessment on MCWD Waterbodies â€“ Fi
 eldseth\n5.6	Discussion of AIS Grant Opportunities - Fieldseth\n\n6.	Sta
 ff Updates\n6.1	None\n\n7.	Adjournment\n\nUpcoming agenda items:\n-	Empl
 oyee Handbook Review â€“ Springsted/Mandt (April)\n- Logis Consortium Pr
 esentation &nbsp\;? Mandt (tentative April)\n- Minnehaha Creek Cleanup â
 €“ Mamayek (tentative May)
URL;VALUE=URI:https://minnehahacreek.org/events/march-5-2015-agenda/
UID:urn:uuid:a8a97756-6ef4-4e20-9af3-464ce3a62279
STATUS:CONFIRMED
ORGANIZER:
DTSTAMP:20260419T135922Z
DTSTART;VALUE=DATE:20150305
END:VEVENT
END:VCALENDAR