BEGIN:VCALENDAR
METHOD:PUBLISH
VERSION:2.0
CALSCALE:GREGORIAN
PRODID:-//NONSGML Sandhills Development\, LLC//NONSGML Sugar Calendar Fe
 eds v3.4.0//EN
X-WR-CALNAME:March 8
X-WR-CALDESC:Minnehaha Creek Watershed District (MCWD)
X-WR-TIMEZONE:America/Chicago
BEGIN:VTIMEZONE
TZID:America/Chicago
BEGIN:STANDARD
TZOFFSETFROM:-0500
TZOFFSETTO:-0600
DTSTART:20111106T070000
TZNAME:CST
END:STANDARD
END:VTIMEZONE
BEGIN:VTIMEZONE
TZID:America/Chicago
BEGIN:STANDARD
TZOFFSETFROM:-0500
TZOFFSETTO:-0600
DTSTART:20111106T070000
TZNAME:CST
END:STANDARD
END:VTIMEZONE
BEGIN:VEVENT
SUMMARY:March 8
DESCRIPTION:Date:&nbsp\;Thursday\, March 8\, 2012Attachments:&nbsp\; Age
 nda 3-8-2012.pdf6:45 PMThursday\, March 8\, 2012Hydrodata\, Operations\,
  Regulatory\, Communications and Education Meeting&nbsp\;Minnehaha Creek
  Watershed District OfficeLower Level Meeting Room18202 Minnetonka Boule
 vard&nbsp\;Deephaven\, MN 55391&nbsp\;www.minnehahacreek.orgBoard of Man
 agers:Jim Calkins\, President\; Brian Shekleton\, Vice President\; Lee K
 eeley\, Secretary\;&nbsp\;Richard Miller\, Treasurer\; Pam Blixt\, Manag
 er\; Jeff Casale\, Manager\; William Olson\, ManagerNote:&nbsp\; Individ
 uals with items on the agenda or who wish to speak to the Board are enco
 uraged to be in attendance when the meeting is called to order.&nbsp\;5:
 30?6:30 PM&nbsp\;&nbsp\;&nbsp\;&nbsp\;&nbsp\; Audit Committee Meeting â€
 “ (Calkins\, Keeley\, Olson) District Office&nbsp\; &nbsp\; &nbsp\; &nbs
 p\; &nbsp\; &nbsp\; &nbsp\; &nbsp\; &nbsp\;&nbsp\;6:45 PM &nbsp\; &nbsp\
 ; &nbsp\; &nbsp\; 1. &nbsp\; &nbsp\;Board Meeting Call to Order and Roll
  Call&nbsp\;2. &nbsp\; &nbsp\;Matters from the Floor&nbsp\;Anyone wishin
 g to address the Board of Managers on an item not on the agenda or on th
 e consent agenda may come forward at this time.&nbsp\; Comments are limi
 ted to two minutes.3. &nbsp\; &nbsp\;Introduction of New Staff â€“ Inter
 im AIS Director4. &nbsp\; &nbsp\;Approval of Agenda (Additions/Correctio
 ns/Deletions)5. &nbsp\; &nbsp\;Minutes5.1 &nbsp\; &nbsp\;Approval of 3/1
 /2012 Minutes6. &nbsp\; &nbsp\;Board\, Committee and Task Force Reports6
 .1 &nbsp\; &nbsp\;Board Updates:- &nbsp\; IT Committee\, 3/6/12\, 5:30 P
 M â€“ St. Louis Park City Hall- &nbsp\; Audit Committee\, 3/8/12\, 5:30 
 PM â€“ District Office- &nbsp\; MAWD Liaisons\, 3/8/12\, 7:00 AM â€“ Kel
 ly Inn â€“ St. Paul- &nbsp\; Other6.2 &nbsp\; &nbsp\;Upcoming Committee 
 and Task Force Meeting Schedule&nbsp\;&nbsp\;&nbsp\;&nbsp\;&nbsp\;&nbsp\
 ;&nbsp\;&nbsp\;&nbsp\;&nbsp\;&nbsp\;&nbsp\;&nbsp\;&nbsp\;&nbsp\;&nbsp\;&
 nbsp\;&nbsp\; Currently Scheduled:- &nbsp\; MCWD Board of Managers Retre
 at â€“ 3/9/12 â€“ Tour begins 11:30 AM\, Meeting begins 12:00 Noon â€“ B
 akken Museum\, Minneapolis- &nbsp\; Hydrodata Committee&nbsp\; - 3/12/12
 \, 3:00 PM â€“ District Office- &nbsp\; MCWD Board of Managers Meeting â
 €“ 3/22/12 â€“ 6:45 PM â€“ District Office6.3&nbsp\;&nbsp\;&nbsp\;&nbsp\
 ; To Be Scheduled:- &nbsp\; Other7. &nbsp\; &nbsp\;Information Items/Cor
 respondence (Items listed under the Information/Correspondence section o
 f the agenda will be considered as one item of business. It consists of 
 routine administrative items or items not requiring discussion. Items ca
 n be removed and discussed at the request of a Board member\, staff memb
 er\, or a member of the audience.)&nbsp\;7.1 &nbsp\; &nbsp\;Education Qu
 arterly Report and Upcoming Events - Yetka7.2 &nbsp\; &nbsp\;Communicati
 ons Quarterly Report and Upcoming Events â€“ Mamayek7.3 &nbsp\; &nbsp\;F
 ebruary 16\, 2012 CAC Minutes - Christopher8. &nbsp\; &nbsp\;Board Revie
 w Items8.1 &nbsp\; &nbsp\;Review of Annual â€“ Evenson/Gibbs- &nbsp\; &n
 bsp\;Exception Report8.2 &nbsp\; &nbsp\;Approval for 3rd year of Biomani
 pulation project in Lake Nokomis â€“ Dooley8.3 &nbsp\; &nbsp\;Approval o
 f Gleason Lake vegetation Management Plan â€“ Christianson8.4 &nbsp\; &n
 bsp\;Authorization to award a contract to RMB Laboratory for Water Quali
 ty&nbsp\;Sample Analysis Services from April 2012 through November 2013 
 ?&nbsp\;Christianson/Dooley8.5 &nbsp\; &nbsp\;Approval for Analysis of P
 hytoplankton and Zooplankton Community in the&nbsp\;Watershed District L
 akes â€“ Dooley8.6 &nbsp\; &nbsp\;Approval for Analysis of Periphyton Sa
 mples from Lake Minnetonka â€“ Dooley8.7 &nbsp\; &nbsp\;Review Scope of 
 Services with University of Minnesota for a Community Capacity&nbsp\;Ass
 essment ? Yetka8.8 &nbsp\; &nbsp\;Presentation on NOAA Funded Climate Ch
 ange and Stormwater Adaptation Study - Yetka8.9 &nbsp\; &nbsp\;Housekeep
 ing Revisions for District Rules ? Christopher8.10 &nbsp\;Appropriations
  Rule Draft Language â€“ Christopher8.11 &nbsp\;Illicit Discharge Draft 
 Language â€“ Christopher8.12 &nbsp\;LID Opportunity for Wayzata Boulevar
 d Road Reconstruction â€“ Christopher8.13 &nbsp\;Permit #12-053:&nbsp\; 
 Minnetonka Mills â€“ Christopher8.14 &nbsp\;Res. 12-012 - Authorization 
 to enter into agreements and expend funds to&nbsp\;finalize restoration 
 plans\, specifications\, and bidding documents\; and to purchase native 
 prairie and wetland seed necessary to restore 7901 and 8015&nbsp\;Halste
 ad Drive\, Minnetrista â€“ Norton9. &nbsp\; &nbsp\;AdjournmentUpcoming B
 oard Meeting/Event ScheduleStormwater U Workshop: An Introduction to Sto
 rmwater BMP's\, Tuesday March 6\, 2012: Workshop begins at&nbsp\;8:00 AM
  to noon\, Minnetonka Community Center\, MinnetonkaMCWD Board of Manager
 s Retreat\, Friday\, March 9\, 2012:&nbsp\; Tour begins at 11:30 AM\, Me
 eting starts 12:00 Noon\, Bakken Museum\, Minneapolis2012 MN AIS Symposi
 um\, 8:30am-4:15pm Monday\, March 19\, 2012 &amp\; 8:00am-1:00pm\, Tuesd
 ay March 20\, 2012\, Kelly Inn\, St. PaulMCWD Board of Managers Meeting\
 , Thursday\, March 22\, 2012\, 6:45 PM\, District Office ? CalkinsMCWD B
 oard of Managers Workshop\, Thursday\, April 5\, 2012\, 6:45 PM\, Distri
 ct Office ? BlixtMCWD Board of Managers Workshop\, Thursday\, April 12\,
  2012\, 6:45 PM\, District Office ? MillerMCWD Board of Managers Meeting
 \, Thursday\, April 26\, 2012\, 6:45 PM\, District Office ? CalkinsMCWD 
 Board of Managers Workshop\, Thursday\, May 3\, 2012\, 6:45 PM â€“ Distr
 ict Office ? CasaleMCWD Board of Managers Workshop\, Thursday\, May 10\,
  2012\, 6:45 PM â€“ District Office ? ShekletonMCWD Board of Managers Me
 eting\, Thursday\, May 24\, 2012\, 6:45 PM â€“ District Office - Calkins
 Joint MCWD/MPRB Meeting\, Thursday\, May 31\, 2012\, Minnehaha Glen
URL;VALUE=URI:https://minnehahacreek.org/events/march-8/
UID:urn:uuid:6f5df268-52d0-4ec7-b8a4-3facd28f7672
STATUS:CONFIRMED
ORGANIZER:
DTSTAMP:20260421T082342Z
DTSTART;VALUE=DATE:20120308
END:VEVENT
END:VCALENDAR