BEGIN:VCALENDAR
METHOD:PUBLISH
VERSION:2.0
CALSCALE:GREGORIAN
PRODID:-//NONSGML Sandhills Development\, LLC//NONSGML Sugar Calendar Fe
 eds v3.4.0//EN
X-WR-CALNAME:May 14\, 2025 CAC Meeting
X-WR-CALDESC:Minnehaha Creek Watershed District (MCWD)
X-WR-TIMEZONE:America/Chicago
BEGIN:VTIMEZONE
TZID:America/Chicago
BEGIN:DAYLIGHT
TZOFFSETFROM:-0600
TZOFFSETTO:-0500
DTSTART:20250309T080000
TZNAME:CDT
END:DAYLIGHT
END:VTIMEZONE
BEGIN:VTIMEZONE
TZID:America/Chicago
BEGIN:DAYLIGHT
TZOFFSETFROM:-0600
TZOFFSETTO:-0500
DTSTART:20250309T080000
TZNAME:CDT
END:DAYLIGHT
END:VTIMEZONE
BEGIN:VEVENT
SUMMARY:May 14\, 2025 CAC Meeting
DESCRIPTION:2.1 May.14.2025 Draft Agenda\n\n\n\n3.1 Mar.19.2025 Draft Mi
 nutes\n\n\n\n5.1 MCWD Capital Improvement Program\n\n\n\n5.2 Land and Wa
 ter Partnership Program Update
URL;VALUE=URI:https://minnehahacreek.org/events/may-14-2025-cac-meeting/
UID:urn:uuid:8063424f-b824-4cdc-b1a8-6c14577aaea2
STATUS:CONFIRMED
ORGANIZER:
DTSTAMP:20260419T224930Z
DTSTART;TZID=America/Chicago:20250514T183000
DTEND;TZID=America/Chicago:20250514T203000
LOCATION:MCWD Office Board Room - Lower Level
END:VEVENT
END:VCALENDAR