BEGIN:VCALENDAR
METHOD:PUBLISH
VERSION:2.0
CALSCALE:GREGORIAN
PRODID:-//NONSGML Sandhills Development\, LLC//NONSGML Sugar Calendar Fe
 eds v3.4.0//EN
X-WR-CALNAME:May 21\, 2015 Agenda
X-WR-CALDESC:Minnehaha Creek Watershed District (MCWD)
X-WR-TIMEZONE:America/Chicago
BEGIN:VTIMEZONE
TZID:America/Chicago
BEGIN:DAYLIGHT
TZOFFSETFROM:-0600
TZOFFSETTO:-0500
DTSTART:20150308T080000
TZNAME:CDT
END:DAYLIGHT
END:VTIMEZONE
BEGIN:VTIMEZONE
TZID:America/Chicago
BEGIN:DAYLIGHT
TZOFFSETFROM:-0600
TZOFFSETTO:-0500
DTSTART:20150308T080000
TZNAME:CDT
END:DAYLIGHT
END:VTIMEZONE
BEGIN:VEVENT
SUMMARY:May 21\, 2015 Agenda
DESCRIPTION:Date:&nbsp\;\n\nThursday\, May 21\, 2015\n\n\n\nAttachments:
 &nbsp\;\n\n 0.0 - May 21\, 2015 Agenda.pdf\n 5.1 - Committee Structure -
  Calkins.pdf\n 5.2 - Memo - Comprehensive Plan Self Assessment - Christo
 pher.pdf\n\n\n\n\n\nThursday\, May 21\, 2015\nPOLICY AND PLANNING COMMIT
 TEE\nBig Island Room\nMinnehaha Creek Watershed District Office\n15320 M
 innetonka Boulevard\nMinnetonka\, MN 55345\nwww.minnehahacreek.org\nPoli
 cy and Planning Committee Members: Jim Calkins\, Chair\; Dick Miller\; B
 rian Shekleton\nNote: &nbsp\;No official action will be taken during com
 mittee meetings. &nbsp\;Items discussed in committee may be continued\, 
 forwarded to another committee\, or advanced to a Board workshop or meet
 ing. &nbsp\;Individuals who wish to speak to the committee members are e
 ncouraged to be in attendance when the meeting is called to order.\n\n6:
 45-9:00 pm\n\n1.	Committee Meeting Call to Order and Roll Call&nbsp\;\n\
 n\n2.	Matters from the Floor&nbsp\;\nAnyone wishing to address the Board
  of Managers on an item not on the agenda&nbsp\;or on the consent agenda
  may come forward at this time. &nbsp\;Comments are limitedto two minute
 s.\n\n\n3. Approval of Agenda\n(Additions/Corrections/Deletions)\n\n4.	I
 nformation Items/Correspondence\n(Items listed under the Information/Cor
 respondence section of the agenda will be considered as one item of busi
 ness. It consists of routine administrative items or items not requiring
  discussion. Items can be removed and discussed at the request of a Boar
 d member\, staff member\, or a member of the audience.)\n\n5.	Discussion
  Items\n5.1	Committee Structure - Calkins\n5.2	Comprehensive Plan Self-A
 ssessment – Christopher\n\n6. Staff Updates\n6.1	None\n\n7.	Adjournmen
 t\n\nUpcoming agenda items:\n\n*No materials are provided.
URL;VALUE=URI:https://minnehahacreek.org/events/may-21-2015-agenda/
UID:urn:uuid:a5e2b68e-9968-477a-bb9c-efc63bdefed6
STATUS:CONFIRMED
ORGANIZER:
DTSTAMP:20260422T083415Z
DTSTART;VALUE=DATE:20150521
END:VEVENT
END:VCALENDAR