BEGIN:VCALENDAR
METHOD:PUBLISH
VERSION:2.0
CALSCALE:GREGORIAN
PRODID:-//NONSGML Sandhills Development\, LLC//NONSGML Sugar Calendar Fe
 eds v3.4.0//EN
X-WR-CALNAME:May 26\, 2016 Operations and Programs Committee Agenda
X-WR-CALDESC:Minnehaha Creek Watershed District (MCWD)
X-WR-TIMEZONE:America/Chicago
BEGIN:VTIMEZONE
TZID:America/Chicago
BEGIN:DAYLIGHT
TZOFFSETFROM:-0600
TZOFFSETTO:-0500
DTSTART:20160313T080000
TZNAME:CDT
END:DAYLIGHT
END:VTIMEZONE
BEGIN:VTIMEZONE
TZID:America/Chicago
BEGIN:DAYLIGHT
TZOFFSETFROM:-0600
TZOFFSETTO:-0500
DTSTART:20160313T080000
TZNAME:CDT
END:DAYLIGHT
END:VTIMEZONE
BEGIN:VEVENT
SUMMARY:May 26\, 2016 Operations and Programs Committee Agenda
DESCRIPTION:Date:&nbsp\;\n\nThursday\, May 26\, 2016\n\n\n\nAttachments:
 &nbsp\;\n\n 0.0 - May 26\, 2016 OPC Agenda.pdf\n\n\n\n\n\nThursday\, May
  26\, 2016\nOPERATIONS AND PROGRAMS COMMITTEE\nBig Island Room\nMinnehah
 a Creek Watershed District Office\n15320 Minnetonka Boulevard\nMinnetonk
 a\, MN 55345&nbsp\;\nwww.minnehahacreek.org\nOperations and Programs Com
 mittee Members: William Olson\, Chair\; Bill Becker\; Pam Blixt\nNote:&n
 bsp\; No official action will be taken during committee meetings.&nbsp\;
  Items discussed in committee may be continued\, forwarded to another co
 mmittee\, or advanced to a Board workshop or meeting.&nbsp\; Individuals
  who wish to speak to the committee members are encouraged to be in atte
 ndance when the meeting is called to order.\n\n4:30-6:00 pm&nbsp\;&nbsp\
 ;&nbsp\;&nbsp\;&nbsp\;&nbsp\;&nbsp\;&nbsp\;&nbsp\;&nbsp\;&nbsp\;\n1.&nbs
 p\;&nbsp\;&nbsp\;&nbsp\;&nbsp\;&nbsp\;&nbsp\;&nbsp\; Committee Meeting C
 all to Order and Roll Call\n2.&nbsp\;&nbsp\;&nbsp\;&nbsp\;&nbsp\;&nbsp\;
 &nbsp\;&nbsp\; Matters from the Floor\nAnyone wishing to address the Boa
 rd of Managers on an item not on the agenda&nbsp\;or on the consent agen
 da may come forward at this time.&nbsp\; Comments are limited&nbsp\;to t
 wo minutes.\n\n3. &nbsp\;&nbsp\;&nbsp\;&nbsp\;&nbsp\;&nbsp\;&nbsp\; Appr
 oval of Agenda (Additions/Corrections/Deletions)\n4.&nbsp\;&nbsp\;&nbsp\
 ;&nbsp\;&nbsp\;&nbsp\;&nbsp\;&nbsp\; Information Items/Correspondence (I
 tems listed under the Information/Correspondence section of the agenda w
 ill be considered as one item of business. It consists of routine admini
 strative items or items not requiring discussion. Items can be removed a
 nd discussed at the request of a Board member\, staff member\, or a memb
 er of the audience.)\n4.1 None\n\n5.&nbsp\;&nbsp\;&nbsp\; &nbsp\;&nbsp\;
 &nbsp\;&nbsp\;Staff Updates\n5.1 AIS Spotlight Presentation – Fieldset
 h/Dawson\n\n6.&nbsp\;&nbsp\;&nbsp\;&nbsp\;&nbsp\;&nbsp\;&nbsp\;&nbsp\;&n
 bsp\;&nbsp\;&nbsp\; Discussion Items\n6.1&nbsp\; &nbsp\;2017 Budget Prog
 ress – Erdahl\n6.2&nbsp\; &nbsp\;Bi-annual Salary Survey Update - Mand
 t\n\n\n7.&nbsp\;&nbsp\;&nbsp\;&nbsp\;&nbsp\;&nbsp\;&nbsp\;&nbsp\;&nbsp\;
 &nbsp\;&nbsp\; Adjournment\n\nUpcoming agenda items:
URL;VALUE=URI:https://minnehahacreek.org/events/may-26-2016-operations-a
 nd-programs-committee-agenda/
UID:urn:uuid:84bf2a9d-01d4-4a5b-ba73-60c5233ae0ae
STATUS:CONFIRMED
ORGANIZER:
DTSTAMP:20260424T093838Z
DTSTART;VALUE=DATE:20160526
END:VEVENT
END:VCALENDAR