BEGIN:VCALENDAR
METHOD:PUBLISH
VERSION:2.0
CALSCALE:GREGORIAN
PRODID:-//NONSGML Sandhills Development\, LLC//NONSGML Sugar Calendar Fe
 eds v3.4.0//EN
X-WR-CALNAME:Minnesota (Metro) Watersheds Quarterly Meeting
X-WR-CALDESC:Minnehaha Creek Watershed District (MCWD)
X-WR-TIMEZONE:America/Chicago
BEGIN:VTIMEZONE
TZID:America/Chicago
BEGIN:STANDARD
TZOFFSETFROM:-0500
TZOFFSETTO:-0600
DTSTART:20231105T070000
TZNAME:CST
END:STANDARD
END:VTIMEZONE
BEGIN:VTIMEZONE
TZID:America/Chicago
BEGIN:STANDARD
TZOFFSETFROM:-0500
TZOFFSETTO:-0600
DTSTART:20231105T070000
TZNAME:CST
END:STANDARD
END:VTIMEZONE
BEGIN:VEVENT
SUMMARY:Minnesota (Metro) Watersheds Quarterly Meeting
DESCRIPTION:Metro-Watersheds-Qtrly-meeting-notice-virtual-meeting
URL;VALUE=URI:https://minnehahacreek.org/events/metro-watersheds/
UID:urn:uuid:ca72d0ea-6574-4041-be56-313aa927ba4e
STATUS:CONFIRMED
ORGANIZER:
DTSTAMP:20260425T174725Z
DTSTART;TZID=America/Chicago:20240116T190000
DTEND;TZID=America/Chicago:20240116T190000
END:VEVENT
END:VCALENDAR