BEGIN:VCALENDAR
METHOD:PUBLISH
VERSION:2.0
CALSCALE:GREGORIAN
PRODID:-//NONSGML Sandhills Development\, LLC//NONSGML Sugar Calendar Fe
 eds v3.4.0//EN
X-WR-CALNAME:Minnesota (Metro) Watersheds Quarterly Meeting
X-WR-CALDESC:Minnehaha Creek Watershed District (MCWD)
X-WR-TIMEZONE:America/Chicago
BEGIN:VTIMEZONE
TZID:America/Chicago
BEGIN:DAYLIGHT
TZOFFSETFROM:-0500
TZOFFSETTO:-0500
DTSTART:20230418T070000
TZNAME:CDT
END:DAYLIGHT
END:VTIMEZONE
BEGIN:VTIMEZONE
TZID:America/Chicago
BEGIN:DAYLIGHT
TZOFFSETFROM:-0500
TZOFFSETTO:-0500
DTSTART:20230418T070000
TZNAME:CDT
END:DAYLIGHT
END:VTIMEZONE
BEGIN:VEVENT
SUMMARY:Minnesota (Metro) Watersheds Quarterly Meeting
DESCRIPTION:Attachment:\n\n\n\nMetro-Watersheds-Qtrly-meeting-notice
URL;VALUE=URI:https://minnehahacreek.org/events/minnesota-metro-watershe
 ds-quarterly-meeting/
UID:urn:uuid:2df2d833-ed94-4aff-8727-744855d68532
STATUS:CONFIRMED
ORGANIZER:
DTSTAMP:20260421T030049Z
DTSTART;TZID=America/Chicago:20231017T190000
DTEND;TZID=America/Chicago:20231017T190000
LOCATION:Capital Region Watershed District \n595 Aldine Street\, St. Pau
 l\, MN\, 55104.
END:VEVENT
END:VCALENDAR