BEGIN:VCALENDAR
METHOD:PUBLISH
VERSION:2.0
CALSCALE:GREGORIAN
PRODID:-//NONSGML Sandhills Development\, LLC//NONSGML Sugar Calendar Fe
 eds v3.4.0//EN
X-WR-CALNAME:November 9\, 2022 CAC Meeting
X-WR-CALDESC:Minnehaha Creek Watershed District (MCWD)
X-WR-TIMEZONE:America/Chicago
BEGIN:VTIMEZONE
TZID:America/Chicago
BEGIN:STANDARD
TZOFFSETFROM:-0500
TZOFFSETTO:-0600
DTSTART:20221106T070000
TZNAME:CST
END:STANDARD
END:VTIMEZONE
BEGIN:VTIMEZONE
TZID:America/Chicago
BEGIN:STANDARD
TZOFFSETFROM:-0500
TZOFFSETTO:-0600
DTSTART:20221106T070000
TZNAME:CST
END:STANDARD
END:VTIMEZONE
BEGIN:VEVENT
SUMMARY:November 9\, 2022 CAC Meeting
DESCRIPTION:2.1_Nov.9.22.AgendaDownload\n\n\n\nAttachments: \n\n\n\n3.1_
 Sept.29.22.Minutes-1\n\n\n\n5.1.-CAC-Diagnostic.memo_
URL;VALUE=URI:https://minnehahacreek.org/events/november-9-2022-cac-meet
 ing/
UID:urn:uuid:ee2792cc-0f5d-4a84-be7c-e49027ee3e80
STATUS:CONFIRMED
ORGANIZER:
DTSTAMP:20260419T163803Z
DTSTART;TZID=America/Chicago:20221109T183000
DTEND;TZID=America/Chicago:20221109T203000
END:VEVENT
END:VCALENDAR