BEGIN:VCALENDAR
METHOD:PUBLISH
VERSION:2.0
CALSCALE:GREGORIAN
PRODID:-//NONSGML Sandhills Development\, LLC//NONSGML Sugar Calendar Fe
 eds v3.4.0//EN
X-WR-CALNAME:October 24\, 2019 Board Meeting
X-WR-CALDESC:Minnehaha Creek Watershed District (MCWD)
X-WR-TIMEZONE:America/Chicago
BEGIN:VTIMEZONE
TZID:America/Chicago
BEGIN:DAYLIGHT
TZOFFSETFROM:-0500
TZOFFSETTO:-0500
DTSTART:20190424T120000
TZNAME:CDT
END:DAYLIGHT
END:VTIMEZONE
BEGIN:VTIMEZONE
TZID:America/Chicago
BEGIN:DAYLIGHT
TZOFFSETFROM:-0500
TZOFFSETTO:-0500
DTSTART:20190424T120000
TZNAME:CDT
END:DAYLIGHT
END:VTIMEZONE
BEGIN:VEVENT
SUMMARY:October 24\, 2019 Board Meeting
DESCRIPTION:Attachments:\n\n 0.0 10.24.2019 Board Meeting Agenda.pdf\n 5
 .1 Approval of October 10\, 2019 Minutes.pdf\n 6.1 General Checking Regi
 ster.pdf\n 6.2 Surety Checking Register.pdf\n 11.1 Approval of Purchase 
 of GIS Licenses &amp\; Maintenance Agreements.pdf\n 11.2 Long Lake Local
  Water Plan (electronic version).pdf\n 12.1 Potential property donation 
 2301 Brunswick Avenue.pdf\n\n\n\n\n\n\nBOARD MEETING\nBoard Room\nMinneh
 aha Creek Watershed District Offices\n15320 Minnetonka Boulevard\nMinnet
 onka\, MN 55345\nwww.minnehahacreek.org\nÂ \nBoard of Managers:\nSherry 
 White\, President\; William Olson\, Vice President\; Richard Miller\, Tr
 easurer\;Â Kurt Rogness\, Secretary\; Jessica Loftus\, Manager\; Arun He
 jmadi\, Manager\; Eugene Maxwell\, ManagerÂ \nNote:Â  Individuals with i
 tems on the agenda or who wish to speak to the Board are encouraged to b
 e in attendance when the meeting is called to order.\n7:00 pmÂ Â Â Â Â Â
  Â Â Â Â Â Â Â Â Â Â Â Â Â Â Â  1.Â Â Â Â Â Â Â Â  Board Meeting Call to
  Order and Roll Call\n\n7:05 pmÂ Â Â Â Â Â Â Â Â Â Â Â Â Â Â Â Â Â Â Â Â
   2.Â Â Â Â Â Â Â Â  Matters from the Floor\n\nAnyone wishing to address
  the Board of Managers on an item not on the agenda or on the consent ag
 enda may come forward at this time. Comments are limited to two minutes.
 Â \n\nÂ Â Â Â Â Â Â Â Â Â Â Â Â Â Â Â Â Â Â Â Â Â Â Â Â Â Â Â Â Â Â Â Â 
 Â Â  3. Â Â Â Â Â Â Â  Approval of Agenda (Additions/Corrections/Deletio
 ns)\n\nÂ  Â  4.Â Â Â Â Â Â Â Â  Information Items/Correspondence (Items 
 listed under the Information/Correspondence section of the agenda will b
 e considered as one item of business. It consists of routine administrat
 ive items orÂ items not requiring discussion. Items can be removed and d
 iscussed at the request of a Board member\, staff member or a member of 
 the audience.)\n\n4.1Â Â Â Â Â Â  Introduction of New Staff â€“ Kate Mor
 an â€“ Christopher\n\n7:05-7:10pmÂ Â Â Â Â Â Â Â Â Â Â Â Â Â  CONSENT AG
 ENDA\n\n(The consent agenda is considered as one item of business. It co
 nsists of routine administrative items or items not requiring discussion
 . Items can be removed from the consent agenda at the request of a Board
  member\, staff member or a member of the audience.)Â  Â  Â  Â Â \n\nÂ Â
  Â Â Â Â Â Â Â Â Â Â Â Â Â Â Â Â Â Â Â Â Â Â Â Â Â Â Â Â Â Â Â Â Â  5.Â 
 Â Â Â Â Â Â Â  Approval of Minutes\n\n5.1Â Â Â Â Â Â  Approval of the Oc
 tober 10\, 2019 Board Minutes\n\n6.Â Â Â Â Â Â Â Â  Approval of Check Re
 gister Â Â Â Â Â Â Â Â Â Â \n\n6.1Â Â Â Â Â Â  General Checking Account\
 n\n6.2Â Â Â Â Â Â  Surety Checking Account\n\nÂ  Â  7.Â Â Â Â Â Â Â Â  C
 onsent Items\n\n7.1Â Â Â Â Â Â  NoneÂ \n\n7:10-10:00pm Â Â Â Â Â Â Â Â Â
  Â Â  REGULAR AGENDAÂ  Â  Â  Â  Â  Â  Â  Â  Â  Â  Â  Â  Â  Â  Â  Â  Â  Â
   Â  Â  Â  Â  Â  Â  Â  Â  Â  Â  Â  Â  Â  Â  Â  Â  Â  Â  Â  Â  Â  Â  Â  Â
   Â Â \n\nÂ Â Â Â Â Â Â Â Â Â Â Â Â Â Â Â Â Â Â Â Â Â Â  Â Â Â Â Â Â Â Â
  Â Â Â  8.Â Â Â Â Â Â Â Â  Board\, Committee and Task Force Reports\n\nÂ
  Â Â Â Â Â Â Â Â Â Â Â Â Â Â Â Â Â Â Â Â Â Â Â Â Â Â Â Â Â Â Â Â Â Â Â Â
  Â Â Â Â Â Â Â Â Â Â  8.1 Â Â Â Â Â  Board Updates:\n\n-Â Â Â Â  Preside
 ntâ€™s Report â€“ White\n\n-Â Â Â Â  Policy and Planning Committee Meeti
 ng Report â€“ Miller\n\n-Â Â Â Â  Metro MAWD Meeting â€“ Maxwell\n\n8.2Â
  Â Â Â Â Â  Upcoming Meeting and Event Schedule:\n\n-Â Â Â Â  5:15 pm\, 
 November 7\, 2019 Operations and Programs Committee Meeting\, Board Room
 \, MCWD Office\n\n-Â Â Â Â  7:00 pm\, November 7\, 2019 MCWD Board Meeti
 ng\, Board Room\, MCWD Office\n\n-Â Â Â Â  6:30 pm\, November 13\, 2019 
 Citizens Advisory Committee Meeting\, Board Room\, MCWD Office â€“ White
 \n\n-Â Â Â Â  5:15 pm\, November 21\, 2019 Policy and Planning Committee
  Meeting\, Board Room\, MCWD Office\n\n-Â Â Â Â  7:00 pm\, November 21\,
  2019 MCWD Board Meeting\, Board Room\, MCWD OfficeÂ \n\nÂ  Â  9.Â Â Â Â
  Â Â Â Â  Public Hearings &amp\; Presentations\n\n9.1Â Â Â Â Â Â  None\n
 \nÂ  Â 10.Â Â Â Â Â Â  Permits Requiring a Variance or Discussion\n\n10.
 1Â Â Â Â  None\n\nÂ  Â 11.Â Â Â Â Â Â  Action Items\n\n11.1Â Â Â Â  Reso
 lution 19-090: Approval of Purchase of GIS Licenses and Maintenance Agre
 ements â€“ Steele\n\n11.2Â Â Â Â  Resolution 19-091: Approval of Long La
 ke Local Water Management Plan â€“ Christopher \n\n12.Â Â Â Â Â Â  Board
  Discussion Items\n\n12.1Â Â Â Â  Potential Property Donation: 2301 Brun
 swick Avenue\, St. Louis Park â€“ Hayman Â \n\n(The board may convene in
  closed session to discuss)\n\n13.Â Â Â Â Â Â  Staff Updates\n\n13.1Â Â 
 Â Â  Administratorâ€™s Report â€“ Wisker\n\n14.Â Â Â Â Â Â  Adjournment\
 n\nÂ \n\nOTHER MEETINGS AND EVENTS\n\nOctober 24-25 â€“ Northern Plains 
 Weather Workshop\, St. Cloud\n\nDecember 5-7 â€“ MAWD Annual Conference 
 &amp\; Trade Show\, Alexandria
URL;VALUE=URI:https://minnehahacreek.org/events/october-24-2019-board-me
 eting/
UID:urn:uuid:29b19a9c-96b4-445e-bc97-9b40c282611a
STATUS:CONFIRMED
ORGANIZER:
DTSTAMP:20260419T171109Z
DTSTART;VALUE=DATE:20191024
END:VEVENT
END:VCALENDAR