BEGIN:VCALENDAR
METHOD:PUBLISH
VERSION:2.0
CALSCALE:GREGORIAN
PRODID:-//NONSGML Sandhills Development\, LLC//NONSGML Sugar Calendar Fe
 eds v3.4.0//EN
X-WR-CALNAME:PPC Meeting
X-WR-CALDESC:Minnehaha Creek Watershed District (MCWD)
X-WR-TIMEZONE:America/Chicago
BEGIN:VTIMEZONE
TZID:America/Chicago
BEGIN:STANDARD
TZOFFSETFROM:-0500
TZOFFSETTO:-0600
DTSTART:20241103T070000
TZNAME:CST
END:STANDARD
END:VTIMEZONE
BEGIN:VTIMEZONE
TZID:America/Chicago
BEGIN:STANDARD
TZOFFSETFROM:-0500
TZOFFSETTO:-0600
DTSTART:20241103T070000
TZNAME:CST
END:STANDARD
END:VTIMEZONE
BEGIN:VEVENT
SUMMARY:PPC Meeting
DESCRIPTION:Attachments\n\n\n\n0.0 02.27.25 PPC Agenda\n\n\n\n4.1 Stakeh
 older Relationship Management Discussion
URL;VALUE=URI:https://minnehahacreek.org/events/ppc-meeting-14/
UID:urn:uuid:8fc8c7ea-ec8d-413a-9ff7-7dedc4b2ee41
STATUS:CONFIRMED
ORGANIZER:
DTSTAMP:20260420T171737Z
DTSTART;TZID=America/Chicago:20250227T171500
DTEND;TZID=America/Chicago:20250227T171500
LOCATION:Boardroom
END:VEVENT
END:VCALENDAR