BEGIN:VCALENDAR
METHOD:PUBLISH
VERSION:2.0
CALSCALE:GREGORIAN
PRODID:-//NONSGML Sandhills Development\, LLC//NONSGML Sugar Calendar Fe
 eds v3.4.0//EN
X-WR-CALNAME:September 15\, 2021 CAC Meeting
X-WR-CALDESC:Minnehaha Creek Watershed District (MCWD)
X-WR-TIMEZONE:America/Chicago
BEGIN:VTIMEZONE
TZID:America/Chicago
BEGIN:DAYLIGHT
TZOFFSETFROM:-0500
TZOFFSETTO:-0500
DTSTART:20210317T063000
TZNAME:CDT
END:DAYLIGHT
END:VTIMEZONE
BEGIN:VTIMEZONE
TZID:America/Chicago
BEGIN:DAYLIGHT
TZOFFSETFROM:-0500
TZOFFSETTO:-0500
DTSTART:20210317T063000
TZNAME:CDT
END:DAYLIGHT
END:VTIMEZONE
BEGIN:VEVENT
SUMMARY:September 15\, 2021 CAC Meeting
DESCRIPTION:Attachments:\n\n\n\n2.1-Agenda-September-15-2021\n\n\n\n3.1-
 CAC-Minutes-August-18-2021-1\n\n\n\n5.1-Responsive-Program-and-Permittin
 g-Alignment\n\n\n\n6.2-Position-Description-2021-Draft-for-CAC-Review
URL;VALUE=URI:https://minnehahacreek.org/events/september-15-2021-cac-me
 eting/
UID:urn:uuid:6955d804-5317-41cd-bc6a-1199cce51094
STATUS:CONFIRMED
ORGANIZER:
DTSTAMP:20260420T044233Z
DTSTART;TZID=America/Chicago:20210915T183000
DTEND;TZID=America/Chicago:20210915T203000
END:VEVENT
END:VCALENDAR