BEGIN:VCALENDAR
METHOD:PUBLISH
VERSION:2.0
CALSCALE:GREGORIAN
PRODID:-//NONSGML Sandhills Development\, LLC//NONSGML Sugar Calendar Fe
 eds v3.4.0//EN
X-WR-CALNAME:Three Rivers Park District - State of the Parks
X-WR-CALDESC:Minnehaha Creek Watershed District (MCWD)
X-WR-TIMEZONE:America/Chicago
BEGIN:VTIMEZONE
TZID:America/Chicago
BEGIN:STANDARD
TZOFFSETFROM:-0500
TZOFFSETTO:-0600
DTSTART:20241103T070000
TZNAME:CST
END:STANDARD
BEGIN:DAYLIGHT
TZOFFSETFROM:-0600
TZOFFSETTO:-0500
DTSTART:20250309T080000
TZNAME:CDT
END:DAYLIGHT
END:VTIMEZONE
BEGIN:VTIMEZONE
TZID:America/Chicago
BEGIN:STANDARD
TZOFFSETFROM:-0500
TZOFFSETTO:-0600
DTSTART:20241103T070000
TZNAME:CST
END:STANDARD
BEGIN:DAYLIGHT
TZOFFSETFROM:-0600
TZOFFSETTO:-0500
DTSTART:20250309T080000
TZNAME:CDT
END:DAYLIGHT
END:VTIMEZONE
BEGIN:VEVENT
SUMMARY:Three Rivers Park District - State of the Parks
DESCRIPTION:Attachment\n\n\n\nThree Rivers Park District 04.02.25
URL;VALUE=URI:https://minnehahacreek.org/events/three-rivers-park-distri
 ct-state-of-the-parks/
UID:urn:uuid:5ad22ffc-6fc5-449b-a08f-8f7394797201
STATUS:CONFIRMED
ORGANIZER:
DTSTAMP:20260421T082318Z
DTSTART;TZID=America/Chicago:20250423T090000
DTEND;TZID=America/Chicago:20250423T090000
END:VEVENT
END:VCALENDAR